BEGIN:VCALENDAR
VERSION:2.0
PRODID:-//Berkshire Woodturners Association - ECPv6.15.20//NONSGML v1.0//EN
CALSCALE:GREGORIAN
METHOD:PUBLISH
X-ORIGINAL-URL:https://berkshirewoodturners.org.uk
X-WR-CALDESC:Events for Berkshire Woodturners Association
REFRESH-INTERVAL;VALUE=DURATION:PT1H
X-Robots-Tag:noindex
X-PUBLISHED-TTL:PT1H
BEGIN:VTIMEZONE
TZID:Europe/London
BEGIN:DAYLIGHT
TZOFFSETFROM:+0000
TZOFFSETTO:+0100
TZNAME:BST
DTSTART:20240331T010000
END:DAYLIGHT
BEGIN:STANDARD
TZOFFSETFROM:+0100
TZOFFSETTO:+0000
TZNAME:GMT
DTSTART:20241027T010000
END:STANDARD
BEGIN:DAYLIGHT
TZOFFSETFROM:+0000
TZOFFSETTO:+0100
TZNAME:BST
DTSTART:20250330T010000
END:DAYLIGHT
BEGIN:STANDARD
TZOFFSETFROM:+0100
TZOFFSETTO:+0000
TZNAME:GMT
DTSTART:20251026T010000
END:STANDARD
BEGIN:DAYLIGHT
TZOFFSETFROM:+0000
TZOFFSETTO:+0100
TZNAME:BST
DTSTART:20260329T010000
END:DAYLIGHT
BEGIN:STANDARD
TZOFFSETFROM:+0100
TZOFFSETTO:+0000
TZNAME:GMT
DTSTART:20261025T010000
END:STANDARD
END:VTIMEZONE
BEGIN:VEVENT
DTSTART;TZID=Europe/London:20250304T193000
DTEND;TZID=Europe/London:20250304T213000
DTSTAMP:20260421T163522
CREATED:20241030T191414Z
LAST-MODIFIED:20241030T191414Z
UID:17647-1741116600-1741123800@berkshirewoodturners.org.uk
SUMMARY:1st Tuesday Talking Turning on Zoom
DESCRIPTION:Details of the Zoom link will be sent out via email.
URL:https://berkshirewoodturners.org.uk/event/1st-tuesday-talking-turning-on-zoom-17/
LOCATION:Virtual Online Event
CATEGORIES:Calendar,homepage
END:VEVENT
BEGIN:VEVENT
DTSTART;TZID=Europe/London:20250312T103000
DTEND;TZID=Europe/London:20250312T115900
DTSTAMP:20260421T163522
CREATED:20241123T151533Z
LAST-MODIFIED:20241123T151533Z
UID:17728-1741775400-1741780740@berkshirewoodturners.org.uk
SUMMARY:2nd Wednesday Coffee Morning on Zoom
DESCRIPTION:Details of the Zoom link will be sent out via email.
URL:https://berkshirewoodturners.org.uk/event/2nd-wednesday-coffee-morning-on-zoom-27/
LOCATION:Virtual Online Event
CATEGORIES:Calendar,homepage
END:VEVENT
BEGIN:VEVENT
DTSTART;TZID=Europe/London:20250319T191500
DTEND;TZID=Europe/London:20250319T220000
DTSTAMP:20260421T163522
CREATED:20241115T201045Z
LAST-MODIFIED:20241122T114411Z
UID:17665-1742411700-1742421600@berkshirewoodturners.org.uk
SUMMARY:March 2025 Club Meeting
DESCRIPTION:Demonstrator: Chris Parker (In person)\nCompetition Theme: A ‘one handed tear off ‘ kitchen roll holder \nDetails of the Zoom link will be sent out via email.
URL:https://berkshirewoodturners.org.uk/event/march-2025-club-meeting/
LOCATION:Priestwood Community Centre\, Priestwood Court Road\, Bracknell\, Berkshire\, RG42 1TU\, United Kingdom
CATEGORIES:Calendar,homepage
END:VEVENT
BEGIN:VEVENT
DTSTART;TZID=Europe/London:20250326T103000
DTEND;TZID=Europe/London:20250326T115900
DTSTAMP:20260421T163522
CREATED:20241123T151535Z
LAST-MODIFIED:20241123T151535Z
UID:17729-1742985000-1742990340@berkshirewoodturners.org.uk
SUMMARY:4th Wednesday Coffee Morning on Zoom
DESCRIPTION:Details of the Zoom link will be sent out via email.
URL:https://berkshirewoodturners.org.uk/event/4th-wednesday-coffee-morning-on-zoom-27/
LOCATION:Virtual Online Event
CATEGORIES:Calendar,homepage
END:VEVENT
END:VCALENDAR