BEGIN:VCALENDAR
VERSION:2.0
PRODID:-//Berkshire Woodturners Association - ECPv6.15.20//NONSGML v1.0//EN
CALSCALE:GREGORIAN
METHOD:PUBLISH
X-ORIGINAL-URL:https://berkshirewoodturners.org.uk
X-WR-CALDESC:Events for Berkshire Woodturners Association
REFRESH-INTERVAL;VALUE=DURATION:PT1H
X-Robots-Tag:noindex
X-PUBLISHED-TTL:PT1H
BEGIN:VTIMEZONE
TZID:Europe/London
BEGIN:DAYLIGHT
TZOFFSETFROM:+0000
TZOFFSETTO:+0100
TZNAME:BST
DTSTART:20240331T010000
END:DAYLIGHT
BEGIN:STANDARD
TZOFFSETFROM:+0100
TZOFFSETTO:+0000
TZNAME:GMT
DTSTART:20241027T010000
END:STANDARD
BEGIN:DAYLIGHT
TZOFFSETFROM:+0000
TZOFFSETTO:+0100
TZNAME:BST
DTSTART:20250330T010000
END:DAYLIGHT
BEGIN:STANDARD
TZOFFSETFROM:+0100
TZOFFSETTO:+0000
TZNAME:GMT
DTSTART:20251026T010000
END:STANDARD
BEGIN:DAYLIGHT
TZOFFSETFROM:+0000
TZOFFSETTO:+0100
TZNAME:BST
DTSTART:20260329T010000
END:DAYLIGHT
BEGIN:STANDARD
TZOFFSETFROM:+0100
TZOFFSETTO:+0000
TZNAME:GMT
DTSTART:20261025T010000
END:STANDARD
BEGIN:DAYLIGHT
TZOFFSETFROM:+0000
TZOFFSETTO:+0100
TZNAME:BST
DTSTART:20270328T010000
END:DAYLIGHT
BEGIN:STANDARD
TZOFFSETFROM:+0100
TZOFFSETTO:+0000
TZNAME:GMT
DTSTART:20271031T010000
END:STANDARD
END:VTIMEZONE
BEGIN:VEVENT
DTSTART;TZID=Europe/London:20250628T100000
DTEND;TZID=Europe/London:20250629T160000
DTSTAMP:20260421T204450
CREATED:20250402T072944Z
LAST-MODIFIED:20250402T072944Z
UID:17909-1751104800-1751212800@berkshirewoodturners.org.uk
SUMMARY:28th June - 29th June 2025 Hurst Show and Country Fayre
DESCRIPTION:Hurst Show \n\nSchool Road\nHurst \nFurther details on FaceBook
URL:https://berkshirewoodturners.org.uk/event/28th-june-29th-june-2025-hurst-show-and-country-fayre/
CATEGORIES:Calendar,homepage
END:VEVENT
BEGIN:VEVENT
DTSTART;TZID=Europe/London:20250701T193000
DTEND;TZID=Europe/London:20250701T213000
DTSTAMP:20260421T204450
CREATED:20241030T191416Z
LAST-MODIFIED:20241030T191416Z
UID:17651-1751398200-1751405400@berkshirewoodturners.org.uk
SUMMARY:1st Tuesday Talking Turning on Zoom
DESCRIPTION:Details of the Zoom link will be sent out via email.
URL:https://berkshirewoodturners.org.uk/event/1st-tuesday-talking-turning-on-zoom-21/
LOCATION:Virtual Online Event
CATEGORIES:Calendar,homepage
END:VEVENT
BEGIN:VEVENT
DTSTART;TZID=Europe/London:20250709T103000
DTEND;TZID=Europe/London:20250709T115900
DTSTAMP:20260421T204450
CREATED:20241123T151551Z
LAST-MODIFIED:20241123T151551Z
UID:17736-1752057000-1752062340@berkshirewoodturners.org.uk
SUMMARY:2nd Wednesday Coffee Morning on Zoom
DESCRIPTION:Details of the Zoom link will be sent out via email.
URL:https://berkshirewoodturners.org.uk/event/2nd-wednesday-coffee-morning-on-zoom-31/
LOCATION:Virtual Online Event
CATEGORIES:Calendar,homepage
END:VEVENT
BEGIN:VEVENT
DTSTART;TZID=Europe/London:20250714T193000
DTEND;TZID=Europe/London:20250714T210000
DTSTAMP:20260421T204450
CREATED:20241123T135626Z
LAST-MODIFIED:20241123T135626Z
UID:17718-1752521400-1752526800@berkshirewoodturners.org.uk
SUMMARY:July 2025 Committee Meeting
DESCRIPTION:
URL:https://berkshirewoodturners.org.uk/event/july-2025-committee-meeting/
LOCATION:Virtual Online Event
CATEGORIES:Calendar,homepage
END:VEVENT
BEGIN:VEVENT
DTSTART;TZID=Europe/London:20250716T191500
DTEND;TZID=Europe/London:20250716T220000
DTSTAMP:20260421T204450
CREATED:20241115T201049Z
LAST-MODIFIED:20241115T201049Z
UID:17669-1752693300-1752703200@berkshirewoodturners.org.uk
SUMMARY:July 2025 Club Meeting
DESCRIPTION:Details of the Zoom link will be sent out via email.
URL:https://berkshirewoodturners.org.uk/event/july-2025-club-meeting/
LOCATION:Priestwood Community Centre\, Priestwood Court Road\, Bracknell\, Berkshire\, RG42 1TU\, United Kingdom
CATEGORIES:Calendar,homepage
END:VEVENT
BEGIN:VEVENT
DTSTART;TZID=Europe/London:20250723T103000
DTEND;TZID=Europe/London:20250723T115900
DTSTAMP:20260421T204450
CREATED:20241123T151551Z
LAST-MODIFIED:20241123T151551Z
UID:17737-1753266600-1753271940@berkshirewoodturners.org.uk
SUMMARY:4th Wednesday Coffee Morning on Zoom
DESCRIPTION:Details of the Zoom link will be sent out via email.
URL:https://berkshirewoodturners.org.uk/event/4th-wednesday-coffee-morning-on-zoom-31/
LOCATION:Virtual Online Event
CATEGORIES:Calendar,homepage
END:VEVENT
BEGIN:VEVENT
DTSTART;TZID=Europe/London:20250805T193000
DTEND;TZID=Europe/London:20250805T213000
DTSTAMP:20260421T204450
CREATED:20241030T191416Z
LAST-MODIFIED:20241030T191416Z
UID:17652-1754422200-1754429400@berkshirewoodturners.org.uk
SUMMARY:1st Tuesday Talking Turning on Zoom
DESCRIPTION:Details of the Zoom link will be sent out via email.
URL:https://berkshirewoodturners.org.uk/event/1st-tuesday-talking-turning-on-zoom-22/
LOCATION:Virtual Online Event
CATEGORIES:Calendar,homepage
END:VEVENT
BEGIN:VEVENT
DTSTART;TZID=Europe/London:20250809T100000
DTEND;TZID=Europe/London:20250810T170000
DTSTAMP:20260421T204450
CREATED:20250402T074042Z
LAST-MODIFIED:20250402T074042Z
UID:17914-1754733600-1754845200@berkshirewoodturners.org.uk
SUMMARY:9th August – 10th August 2025 Chestnut Products Woodturning Weekender
DESCRIPTION:The Museum of the Great Western Railway\nFire Fly Avenue\nSwindon\nSN2 2EY \nFurther details and tickets available from Chestnut Products Woodturning Weekender
URL:https://berkshirewoodturners.org.uk/event/9th-august-10th-august-2025-chestnut-products-woodturning-weekender/
CATEGORIES:Calendar,homepage
END:VEVENT
BEGIN:VEVENT
DTSTART;TZID=Europe/London:20250813T103000
DTEND;TZID=Europe/London:20250813T115900
DTSTAMP:20260421T204450
CREATED:20241123T151552Z
LAST-MODIFIED:20241123T151552Z
UID:17738-1755081000-1755086340@berkshirewoodturners.org.uk
SUMMARY:2nd Wednesday Coffee Morning on Zoom
DESCRIPTION:Details of the Zoom link will be sent out via email.
URL:https://berkshirewoodturners.org.uk/event/2nd-wednesday-coffee-morning-on-zoom-32/
LOCATION:Virtual Online Event
CATEGORIES:Calendar,homepage
END:VEVENT
BEGIN:VEVENT
DTSTART;TZID=Europe/London:20250820T191500
DTEND;TZID=Europe/London:20250820T220000
DTSTAMP:20260421T204450
CREATED:20241115T201049Z
LAST-MODIFIED:20250818T131906Z
UID:17670-1755717300-1755727200@berkshirewoodturners.org.uk
SUMMARY:August 2025 Club Meeting
DESCRIPTION:Demonstrator: Club member John French.  \nDemonstration: Green turning.  \nCompetition Theme: A lighthouse.  \nDetails of the Zoom link will be sent out via email. 
URL:https://berkshirewoodturners.org.uk/event/august-2025-club-meeting/
LOCATION:Priestwood Community Centre\, Priestwood Court Road\, Bracknell\, Berkshire\, RG42 1TU\, United Kingdom
CATEGORIES:Calendar,homepage
END:VEVENT
BEGIN:VEVENT
DTSTART;TZID=Europe/London:20250822T100000
DTEND;TZID=Europe/London:20250825T170000
DTSTAMP:20260421T204450
CREATED:20250402T073611Z
LAST-MODIFIED:20250402T073611Z
UID:17911-1755856800-1756141200@berkshirewoodturners.org.uk
SUMMARY:22nd August – 25th August 2025 Henley Country Craft Show\, Stonor Park
DESCRIPTION:Stonor Park\nHenley-on-Thames\nRG9 6HF \nFurther details and tickets available from Henley Country Craft Show
URL:https://berkshirewoodturners.org.uk/event/22nd-august-25th-august-2025-henley-country-craft-show-stonor-park/
CATEGORIES:Calendar,homepage
END:VEVENT
BEGIN:VEVENT
DTSTART;TZID=Europe/London:20250827T103000
DTEND;TZID=Europe/London:20250827T115900
DTSTAMP:20260421T204450
CREATED:20241123T151606Z
LAST-MODIFIED:20241123T151606Z
UID:17739-1756290600-1756295940@berkshirewoodturners.org.uk
SUMMARY:4th Wednesday Coffee Morning on Zoom
DESCRIPTION:Details of the Zoom link will be sent out via email.
URL:https://berkshirewoodturners.org.uk/event/4th-wednesday-coffee-morning-on-zoom-32/
LOCATION:Virtual Online Event
CATEGORIES:Calendar,homepage
END:VEVENT
BEGIN:VEVENT
DTSTART;TZID=Europe/London:20250902T193000
DTEND;TZID=Europe/London:20250902T213000
DTSTAMP:20260421T204450
CREATED:20241030T191417Z
LAST-MODIFIED:20241030T191417Z
UID:17653-1756841400-1756848600@berkshirewoodturners.org.uk
SUMMARY:1st Tuesday Talking Turning on Zoom
DESCRIPTION:Details of the Zoom link will be sent out via email.
URL:https://berkshirewoodturners.org.uk/event/1st-tuesday-talking-turning-on-zoom-23/
LOCATION:Virtual Online Event
CATEGORIES:Calendar,homepage
END:VEVENT
BEGIN:VEVENT
DTSTART;TZID=Europe/London:20250910T103000
DTEND;TZID=Europe/London:20250910T115900
DTSTAMP:20260421T204450
CREATED:20241123T151606Z
LAST-MODIFIED:20241123T151606Z
UID:17740-1757500200-1757505540@berkshirewoodturners.org.uk
SUMMARY:2nd Wednesday Coffee Morning on Zoom
DESCRIPTION:Details of the Zoom link will be sent out via email.
URL:https://berkshirewoodturners.org.uk/event/2nd-wednesday-coffee-morning-on-zoom-33/
LOCATION:Virtual Online Event
CATEGORIES:Calendar,homepage
END:VEVENT
BEGIN:VEVENT
DTSTART;TZID=Europe/London:20250917T191500
DTEND;TZID=Europe/London:20250917T220000
DTSTAMP:20260421T204450
CREATED:20241115T201049Z
LAST-MODIFIED:20250831T191204Z
UID:17671-1758136500-1758146400@berkshirewoodturners.org.uk
SUMMARY:September 2025 Club Meeting
DESCRIPTION:Demonstrator: Club demonstration by Justyn Fowler. \nDemonstration: Natural Edge vessel. \nCompetition Theme: A desk tidy/rubbish bin. \nDetails of the Zoom link will be sent out via email.
URL:https://berkshirewoodturners.org.uk/event/september-2025-club-meeting/
LOCATION:Priestwood Community Centre\, Priestwood Court Road\, Bracknell\, Berkshire\, RG42 1TU\, United Kingdom
CATEGORIES:Calendar,homepage
END:VEVENT
BEGIN:VEVENT
DTSTART;TZID=Europe/London:20250924T103000
DTEND;TZID=Europe/London:20250924T115900
DTSTAMP:20260421T204450
CREATED:20241123T151606Z
LAST-MODIFIED:20241123T151606Z
UID:17741-1758709800-1758715140@berkshirewoodturners.org.uk
SUMMARY:4th Wednesday Coffee Morning on Zoom
DESCRIPTION:Details of the Zoom link will be sent out via email.
URL:https://berkshirewoodturners.org.uk/event/4th-wednesday-coffee-morning-on-zoom-33/
LOCATION:Virtual Online Event
CATEGORIES:Calendar,homepage
END:VEVENT
BEGIN:VEVENT
DTSTART;TZID=Europe/London:20251006T193000
DTEND;TZID=Europe/London:20251006T210000
DTSTAMP:20260421T204450
CREATED:20241123T135711Z
LAST-MODIFIED:20241123T135711Z
UID:17720-1759779000-1759784400@berkshirewoodturners.org.uk
SUMMARY:October 2025 Committee Meeting
DESCRIPTION:
URL:https://berkshirewoodturners.org.uk/event/october-2025-committee-meeting/
LOCATION:Virtual Online Event
CATEGORIES:Calendar,homepage
END:VEVENT
BEGIN:VEVENT
DTSTART;TZID=Europe/London:20251007T193000
DTEND;TZID=Europe/London:20251007T213000
DTSTAMP:20260421T204450
CREATED:20241030T191417Z
LAST-MODIFIED:20241030T191417Z
UID:17654-1759865400-1759872600@berkshirewoodturners.org.uk
SUMMARY:1st Tuesday Talking Turning on Zoom
DESCRIPTION:Details of the Zoom link will be sent out via email.
URL:https://berkshirewoodturners.org.uk/event/1st-tuesday-talking-turning-on-zoom-24/
LOCATION:Virtual Online Event
CATEGORIES:Calendar,homepage
END:VEVENT
BEGIN:VEVENT
DTSTART;TZID=Europe/London:20251008T103000
DTEND;TZID=Europe/London:20251008T115900
DTSTAMP:20260421T204450
CREATED:20241123T151606Z
LAST-MODIFIED:20241123T151606Z
UID:17742-1759919400-1759924740@berkshirewoodturners.org.uk
SUMMARY:2nd Wednesday Coffee Morning on Zoom
DESCRIPTION:Details of the Zoom link will be sent out via email.
URL:https://berkshirewoodturners.org.uk/event/2nd-wednesday-coffee-morning-on-zoom-34/
LOCATION:Virtual Online Event
CATEGORIES:Calendar,homepage
END:VEVENT
BEGIN:VEVENT
DTSTART;TZID=Europe/London:20251015T191500
DTEND;TZID=Europe/London:20251015T220000
DTSTAMP:20260421T204450
CREATED:20241115T201049Z
LAST-MODIFIED:20250925T112049Z
UID:17672-1760555700-1760565600@berkshirewoodturners.org.uk
SUMMARY:October 2025 Club Meeting
DESCRIPTION:Details of the Zoom link will be sent out via email.
URL:https://berkshirewoodturners.org.uk/event/october-2025-club-meeting/
LOCATION:Priestwood Community Centre\, Priestwood Court Road\, Bracknell\, Berkshire\, RG42 1TU\, United Kingdom
CATEGORIES:Calendar,homepage
END:VEVENT
BEGIN:VEVENT
DTSTART;TZID=Europe/London:20251022T103000
DTEND;TZID=Europe/London:20251022T115900
DTSTAMP:20260421T204450
CREATED:20241123T151606Z
LAST-MODIFIED:20241123T151606Z
UID:17743-1761129000-1761134340@berkshirewoodturners.org.uk
SUMMARY:4th Wednesday Coffee Morning on Zoom
DESCRIPTION:Details of the Zoom link will be sent out via email.
URL:https://berkshirewoodturners.org.uk/event/4th-wednesday-coffee-morning-on-zoom-34/
LOCATION:Virtual Online Event
CATEGORIES:Calendar,homepage
END:VEVENT
BEGIN:VEVENT
DTSTART;TZID=Europe/London:20251104T193000
DTEND;TZID=Europe/London:20251104T213000
DTSTAMP:20260421T204450
CREATED:20241030T191417Z
LAST-MODIFIED:20241030T191417Z
UID:17655-1762284600-1762291800@berkshirewoodturners.org.uk
SUMMARY:1st Tuesday Talking Turning on Zoom
DESCRIPTION:Details of the Zoom link will be sent out via email.
URL:https://berkshirewoodturners.org.uk/event/1st-tuesday-talking-turning-on-zoom-25/
LOCATION:Virtual Online Event
CATEGORIES:Calendar,homepage
END:VEVENT
BEGIN:VEVENT
DTSTART;TZID=Europe/London:20251112T103000
DTEND;TZID=Europe/London:20251112T115900
DTSTAMP:20260421T204450
CREATED:20241123T151635Z
LAST-MODIFIED:20241123T151635Z
UID:17744-1762943400-1762948740@berkshirewoodturners.org.uk
SUMMARY:2nd Wednesday Coffee Morning on Zoom
DESCRIPTION:Details of the Zoom link will be sent out via email.
URL:https://berkshirewoodturners.org.uk/event/2nd-wednesday-coffee-morning-on-zoom-35/
LOCATION:Virtual Online Event
CATEGORIES:Calendar,homepage
END:VEVENT
BEGIN:VEVENT
DTSTART;TZID=Europe/London:20251119T191500
DTEND;TZID=Europe/London:20251119T220000
DTSTAMP:20260421T204450
CREATED:20241115T201104Z
LAST-MODIFIED:20251016T204812Z
UID:17673-1763579700-1763589600@berkshirewoodturners.org.uk
SUMMARY:November 2025 Club Meeting
DESCRIPTION:Details of the Zoom link will be sent out via email.
URL:https://berkshirewoodturners.org.uk/event/november-2025-club-meeting/
LOCATION:Priestwood Community Centre\, Priestwood Court Road\, Bracknell\, Berkshire\, RG42 1TU\, United Kingdom
CATEGORIES:Calendar,homepage
END:VEVENT
BEGIN:VEVENT
DTSTART;TZID=Europe/London:20251126T103000
DTEND;TZID=Europe/London:20251126T115900
DTSTAMP:20260421T204450
CREATED:20241123T151635Z
LAST-MODIFIED:20241123T151635Z
UID:17745-1764153000-1764158340@berkshirewoodturners.org.uk
SUMMARY:4th Wednesday Coffee Morning on Zoom
DESCRIPTION:Details of the Zoom link will be sent out via email.
URL:https://berkshirewoodturners.org.uk/event/4th-wednesday-coffee-morning-on-zoom-35/
LOCATION:Virtual Online Event
CATEGORIES:Calendar,homepage
END:VEVENT
BEGIN:VEVENT
DTSTART;TZID=Europe/London:20251202T193000
DTEND;TZID=Europe/London:20251202T213000
DTSTAMP:20260421T204450
CREATED:20241030T191417Z
LAST-MODIFIED:20241030T191417Z
UID:17656-1764703800-1764711000@berkshirewoodturners.org.uk
SUMMARY:1st Tuesday Talking Turning on Zoom
DESCRIPTION:Details of the Zoom link will be sent out via email.
URL:https://berkshirewoodturners.org.uk/event/1st-tuesday-talking-turning-on-zoom-26/
LOCATION:Virtual Online Event
CATEGORIES:Calendar,homepage
END:VEVENT
BEGIN:VEVENT
DTSTART;TZID=Europe/London:20251210T103000
DTEND;TZID=Europe/London:20251210T115900
DTSTAMP:20260421T204450
CREATED:20241123T151635Z
LAST-MODIFIED:20241123T151635Z
UID:17746-1765362600-1765367940@berkshirewoodturners.org.uk
SUMMARY:2nd Wednesday Coffee Morning on Zoom
DESCRIPTION:Details of the Zoom link will be sent out via email.
URL:https://berkshirewoodturners.org.uk/event/2nd-wednesday-coffee-morning-on-zoom-36/
LOCATION:Virtual Online Event
CATEGORIES:Calendar,homepage
END:VEVENT
BEGIN:VEVENT
DTSTART;TZID=Europe/London:20251217T191500
DTEND;TZID=Europe/London:20251217T220000
DTSTAMP:20260421T204450
CREATED:20241115T201105Z
LAST-MODIFIED:20251211T165603Z
UID:17674-1765998900-1766008800@berkshirewoodturners.org.uk
SUMMARY:December 2025 Club Meeting
DESCRIPTION:No Zoom this month.
URL:https://berkshirewoodturners.org.uk/event/december-2025-club-meeting/
LOCATION:Priestwood Community Centre\, Priestwood Court Road\, Bracknell\, Berkshire\, RG42 1TU\, United Kingdom
CATEGORIES:Calendar,homepage
END:VEVENT
BEGIN:VEVENT
DTSTART;TZID=Europe/London:20251224T103000
DTEND;TZID=Europe/London:20251224T115900
DTSTAMP:20260421T204450
CREATED:20241123T151635Z
LAST-MODIFIED:20241123T151635Z
UID:17747-1766572200-1766577540@berkshirewoodturners.org.uk
SUMMARY:4th Wednesday Coffee Morning on Zoom
DESCRIPTION:Details of the Zoom link will be sent out via email.
URL:https://berkshirewoodturners.org.uk/event/4th-wednesday-coffee-morning-on-zoom-36/
LOCATION:Virtual Online Event
CATEGORIES:Calendar,homepage
END:VEVENT
BEGIN:VEVENT
DTSTART;TZID=Europe/London:20260106T193000
DTEND;TZID=Europe/London:20260106T213000
DTSTAMP:20260421T204450
CREATED:20251031T213816Z
LAST-MODIFIED:20251031T213816Z
UID:18232-1767727800-1767735000@berkshirewoodturners.org.uk
SUMMARY:1st Tuesday Talking Turning on Zoom
DESCRIPTION:Details of the Zoom link will be sent out via email.
URL:https://berkshirewoodturners.org.uk/event/1st-tuesday-talking-turning-on-zoom-27/
LOCATION:Virtual Online Event
CATEGORIES:Calendar,homepage
END:VEVENT
END:VCALENDAR