BEGIN:VCALENDAR
VERSION:2.0
PRODID:-//Berkshire Woodturners Association - ECPv6.15.20//NONSGML v1.0//EN
CALSCALE:GREGORIAN
METHOD:PUBLISH
X-ORIGINAL-URL:https://berkshirewoodturners.org.uk
X-WR-CALDESC:Events for Berkshire Woodturners Association
REFRESH-INTERVAL;VALUE=DURATION:PT1H
X-Robots-Tag:noindex
X-PUBLISHED-TTL:PT1H
BEGIN:VTIMEZONE
TZID:Europe/London
BEGIN:DAYLIGHT
TZOFFSETFROM:+0000
TZOFFSETTO:+0100
TZNAME:BST
DTSTART:20240331T010000
END:DAYLIGHT
BEGIN:STANDARD
TZOFFSETFROM:+0100
TZOFFSETTO:+0000
TZNAME:GMT
DTSTART:20241027T010000
END:STANDARD
BEGIN:DAYLIGHT
TZOFFSETFROM:+0000
TZOFFSETTO:+0100
TZNAME:BST
DTSTART:20250330T010000
END:DAYLIGHT
BEGIN:STANDARD
TZOFFSETFROM:+0100
TZOFFSETTO:+0000
TZNAME:GMT
DTSTART:20251026T010000
END:STANDARD
BEGIN:DAYLIGHT
TZOFFSETFROM:+0000
TZOFFSETTO:+0100
TZNAME:BST
DTSTART:20260329T010000
END:DAYLIGHT
BEGIN:STANDARD
TZOFFSETFROM:+0100
TZOFFSETTO:+0000
TZNAME:GMT
DTSTART:20261025T010000
END:STANDARD
END:VTIMEZONE
BEGIN:VEVENT
DTSTART;TZID=Europe/London:20250304T193000
DTEND;TZID=Europe/London:20250304T213000
DTSTAMP:20260421T213819
CREATED:20241030T191414Z
LAST-MODIFIED:20241030T191414Z
UID:17647-1741116600-1741123800@berkshirewoodturners.org.uk
SUMMARY:1st Tuesday Talking Turning on Zoom
DESCRIPTION:Details of the Zoom link will be sent out via email.
URL:https://berkshirewoodturners.org.uk/event/1st-tuesday-talking-turning-on-zoom-17/
LOCATION:Virtual Online Event
CATEGORIES:Calendar,homepage
END:VEVENT
BEGIN:VEVENT
DTSTART;TZID=Europe/London:20250312T103000
DTEND;TZID=Europe/London:20250312T115900
DTSTAMP:20260421T213820
CREATED:20241123T151533Z
LAST-MODIFIED:20241123T151533Z
UID:17728-1741775400-1741780740@berkshirewoodturners.org.uk
SUMMARY:2nd Wednesday Coffee Morning on Zoom
DESCRIPTION:Details of the Zoom link will be sent out via email.
URL:https://berkshirewoodturners.org.uk/event/2nd-wednesday-coffee-morning-on-zoom-27/
LOCATION:Virtual Online Event
CATEGORIES:Calendar,homepage
END:VEVENT
BEGIN:VEVENT
DTSTART;TZID=Europe/London:20250319T191500
DTEND;TZID=Europe/London:20250319T220000
DTSTAMP:20260421T213820
CREATED:20241115T201045Z
LAST-MODIFIED:20241122T114411Z
UID:17665-1742411700-1742421600@berkshirewoodturners.org.uk
SUMMARY:March 2025 Club Meeting
DESCRIPTION:Demonstrator: Chris Parker (In person)\nCompetition Theme: A ‘one handed tear off ‘ kitchen roll holder \nDetails of the Zoom link will be sent out via email.
URL:https://berkshirewoodturners.org.uk/event/march-2025-club-meeting/
LOCATION:Priestwood Community Centre\, Priestwood Court Road\, Bracknell\, Berkshire\, RG42 1TU\, United Kingdom
CATEGORIES:Calendar,homepage
END:VEVENT
BEGIN:VEVENT
DTSTART;TZID=Europe/London:20250326T103000
DTEND;TZID=Europe/London:20250326T115900
DTSTAMP:20260421T213820
CREATED:20241123T151535Z
LAST-MODIFIED:20241123T151535Z
UID:17729-1742985000-1742990340@berkshirewoodturners.org.uk
SUMMARY:4th Wednesday Coffee Morning on Zoom
DESCRIPTION:Details of the Zoom link will be sent out via email.
URL:https://berkshirewoodturners.org.uk/event/4th-wednesday-coffee-morning-on-zoom-27/
LOCATION:Virtual Online Event
CATEGORIES:Calendar,homepage
END:VEVENT
BEGIN:VEVENT
DTSTART;TZID=Europe/London:20250401T193000
DTEND;TZID=Europe/London:20250401T213000
DTSTAMP:20260421T213820
CREATED:20241030T191415Z
LAST-MODIFIED:20250330T110600Z
UID:17648-1743535800-1743543000@berkshirewoodturners.org.uk
SUMMARY:1st Tuesday Talking Turning on Zoom
DESCRIPTION:Details of the Zoom link will be sent out via email.
URL:https://berkshirewoodturners.org.uk/event/1st-tuesday-talking-turning-on-zoom-18/
LOCATION:Virtual Online Event
CATEGORIES:Calendar,homepage
END:VEVENT
BEGIN:VEVENT
DTSTART;TZID=Europe/London:20250409T103000
DTEND;TZID=Europe/London:20250409T115900
DTSTAMP:20260421T213820
CREATED:20241123T151535Z
LAST-MODIFIED:20241123T151535Z
UID:17730-1744194600-1744199940@berkshirewoodturners.org.uk
SUMMARY:2nd Wednesday Coffee Morning on Zoom
DESCRIPTION:Details of the Zoom link will be sent out via email.
URL:https://berkshirewoodturners.org.uk/event/2nd-wednesday-coffee-morning-on-zoom-28/
LOCATION:Virtual Online Event
CATEGORIES:Calendar,homepage
END:VEVENT
BEGIN:VEVENT
DTSTART;TZID=Europe/London:20250414T193000
DTEND;TZID=Europe/London:20250414T210000
DTSTAMP:20260421T213820
CREATED:20241123T132116Z
LAST-MODIFIED:20241123T132116Z
UID:17715-1744659000-1744664400@berkshirewoodturners.org.uk
SUMMARY:April 2025 Committee Meeting
DESCRIPTION:
URL:https://berkshirewoodturners.org.uk/event/april-2025-committee-meeting/
LOCATION:Virtual Online Event
CATEGORIES:Calendar,homepage
END:VEVENT
BEGIN:VEVENT
DTSTART;TZID=Europe/London:20250416T191500
DTEND;TZID=Europe/London:20250416T220000
DTSTAMP:20260421T213820
CREATED:20241115T201045Z
LAST-MODIFIED:20241115T201045Z
UID:17666-1744830900-1744840800@berkshirewoodturners.org.uk
SUMMARY:April 2025 Club Meeting
DESCRIPTION:Details of the Zoom link will be sent out via email.
URL:https://berkshirewoodturners.org.uk/event/april-2025-club-meeting/
LOCATION:Priestwood Community Centre\, Priestwood Court Road\, Bracknell\, Berkshire\, RG42 1TU\, United Kingdom
CATEGORIES:Calendar,homepage
END:VEVENT
BEGIN:VEVENT
DTSTART;TZID=Europe/London:20250423T103000
DTEND;TZID=Europe/London:20250423T115900
DTSTAMP:20260421T213820
CREATED:20241123T151536Z
LAST-MODIFIED:20241123T151536Z
UID:17731-1745404200-1745409540@berkshirewoodturners.org.uk
SUMMARY:4th Wednesday Coffee Morning on Zoom
DESCRIPTION:Details of the Zoom link will be sent out via email.
URL:https://berkshirewoodturners.org.uk/event/4th-wednesday-coffee-morning-on-zoom-28/
LOCATION:Virtual Online Event
CATEGORIES:Calendar,homepage
END:VEVENT
BEGIN:VEVENT
DTSTART;TZID=Europe/London:20250504T100000
DTEND;TZID=Europe/London:20250505T170000
DTSTAMP:20260421T213820
CREATED:20250128T223849Z
LAST-MODIFIED:20250128T223849Z
UID:17822-1746352800-1746464400@berkshirewoodturners.org.uk
SUMMARY:4th May – 5th May 2025 Bucks Country Show
DESCRIPTION:Bucks Country Show \nPenn Street\nHorse Moor Lane\nBeaconsfield\nAmersham\nHP7 0PS \nFurther details on FaceBook
URL:https://berkshirewoodturners.org.uk/event/4th-may-5th-may-2025-bucks-country-show/
CATEGORIES:Calendar,homepage
END:VEVENT
BEGIN:VEVENT
DTSTART;TZID=Europe/London:20250506T193000
DTEND;TZID=Europe/London:20250506T213000
DTSTAMP:20260421T213820
CREATED:20241030T191415Z
LAST-MODIFIED:20241030T191415Z
UID:17649-1746559800-1746567000@berkshirewoodturners.org.uk
SUMMARY:1st Tuesday Talking Turning on Zoom
DESCRIPTION:Details of the Zoom link will be sent out via email.
URL:https://berkshirewoodturners.org.uk/event/1st-tuesday-talking-turning-on-zoom-19/
LOCATION:Virtual Online Event
CATEGORIES:Calendar,homepage
END:VEVENT
BEGIN:VEVENT
DTSTART;TZID=Europe/London:20250510T100000
DTEND;TZID=Europe/London:20250510T160000
DTSTAMP:20260421T213820
CREATED:20250415T124149Z
LAST-MODIFIED:20250415T145943Z
UID:17922-1746871200-1746892800@berkshirewoodturners.org.uk
SUMMARY:10th May 2025 Woodley Church Fete
DESCRIPTION:Further details here
URL:https://berkshirewoodturners.org.uk/event/10th-may-2025-woodley-church-fete/
CATEGORIES:Calendar,homepage
END:VEVENT
BEGIN:VEVENT
DTSTART;TZID=Europe/London:20250514T103000
DTEND;TZID=Europe/London:20250514T115900
DTSTAMP:20260421T213820
CREATED:20241123T151536Z
LAST-MODIFIED:20241123T151536Z
UID:17732-1747218600-1747223940@berkshirewoodturners.org.uk
SUMMARY:2nd Wednesday Coffee Morning on Zoom
DESCRIPTION:Details of the Zoom link will be sent out via email.
URL:https://berkshirewoodturners.org.uk/event/2nd-wednesday-coffee-morning-on-zoom-29/
LOCATION:Virtual Online Event
CATEGORIES:Calendar,homepage
END:VEVENT
BEGIN:VEVENT
DTSTART;TZID=Europe/London:20250521T191500
DTEND;TZID=Europe/London:20250521T220000
DTSTAMP:20260421T213820
CREATED:20241115T201046Z
LAST-MODIFIED:20250514T203504Z
UID:17667-1747854900-1747864800@berkshirewoodturners.org.uk
SUMMARY:May 2025 Club Meeting
DESCRIPTION:Demonstrator: Club “interactive event”. \nDemonstration: Tag Team turning a bowl in 45 mins. \nCompetition Theme: A Quaich. \nDetails of the Zoom link will be sent out via email.
URL:https://berkshirewoodturners.org.uk/event/may-2025-club-meeting/
LOCATION:Priestwood Community Centre\, Priestwood Court Road\, Bracknell\, Berkshire\, RG42 1TU\, United Kingdom
CATEGORIES:Calendar,homepage
END:VEVENT
BEGIN:VEVENT
DTSTART;TZID=Europe/London:20250528T103000
DTEND;TZID=Europe/London:20250528T115900
DTSTAMP:20260421T213820
CREATED:20241123T151536Z
LAST-MODIFIED:20241123T151536Z
UID:17733-1748428200-1748433540@berkshirewoodturners.org.uk
SUMMARY:4th Wednesday Coffee Morning on Zoom
DESCRIPTION:Details of the Zoom link will be sent out via email.
URL:https://berkshirewoodturners.org.uk/event/4th-wednesday-coffee-morning-on-zoom-29/
LOCATION:Virtual Online Event
CATEGORIES:Calendar,homepage
END:VEVENT
BEGIN:VEVENT
DTSTART;TZID=Europe/London:20250603T193000
DTEND;TZID=Europe/London:20250603T213000
DTSTAMP:20260421T213820
CREATED:20241030T191415Z
LAST-MODIFIED:20241030T191415Z
UID:17650-1748979000-1748986200@berkshirewoodturners.org.uk
SUMMARY:1st Tuesday Talking Turning on Zoom
DESCRIPTION:Details of the Zoom link will be sent out via email.
URL:https://berkshirewoodturners.org.uk/event/1st-tuesday-talking-turning-on-zoom-20/
LOCATION:Virtual Online Event
CATEGORIES:Calendar,homepage
END:VEVENT
BEGIN:VEVENT
DTSTART;TZID=Europe/London:20250611T103000
DTEND;TZID=Europe/London:20250611T115900
DTSTAMP:20260421T213820
CREATED:20241123T151551Z
LAST-MODIFIED:20241123T151551Z
UID:17734-1749637800-1749643140@berkshirewoodturners.org.uk
SUMMARY:2nd Wednesday Coffee Morning on Zoom
DESCRIPTION:Details of the Zoom link will be sent out via email.
URL:https://berkshirewoodturners.org.uk/event/2nd-wednesday-coffee-morning-on-zoom-30/
LOCATION:Virtual Online Event
CATEGORIES:Calendar,homepage
END:VEVENT
BEGIN:VEVENT
DTSTART;TZID=Europe/London:20250618T191500
DTEND;TZID=Europe/London:20250618T220000
DTSTAMP:20260421T213820
CREATED:20241115T201048Z
LAST-MODIFIED:20250525T130331Z
UID:17668-1750274100-1750284000@berkshirewoodturners.org.uk
SUMMARY:June 2025 Club Meeting
DESCRIPTION:Demonstrator: N/A.\n\n \n\nDemonstration: N/A. General Sale\, including wood plus “show and tell”.\n\n \n\nCompetition Theme: A decorative paperweight.
URL:https://berkshirewoodturners.org.uk/event/june-2025-club-meeting/
LOCATION:Priestwood Community Centre\, Priestwood Court Road\, Bracknell\, Berkshire\, RG42 1TU\, United Kingdom
CATEGORIES:Calendar,homepage
END:VEVENT
BEGIN:VEVENT
DTSTART;TZID=Europe/London:20250621T100000
DTEND;TZID=Europe/London:20250621T170000
DTSTAMP:20260421T213820
CREATED:20250514T203655Z
LAST-MODIFIED:20250514T203655Z
UID:17970-1750500000-1750525200@berkshirewoodturners.org.uk
SUMMARY:21st June 2025 Winnersh Summer Fete
DESCRIPTION:See Winnersh Summer Fete – Winnersh Parish Council for further details
URL:https://berkshirewoodturners.org.uk/event/21st-june-2025-winnersh-summer-fete/
END:VEVENT
BEGIN:VEVENT
DTSTART;TZID=Europe/London:20250625T103000
DTEND;TZID=Europe/London:20250625T115900
DTSTAMP:20260421T213820
CREATED:20241123T151551Z
LAST-MODIFIED:20241123T151551Z
UID:17735-1750847400-1750852740@berkshirewoodturners.org.uk
SUMMARY:4th Wednesday Coffee Morning on Zoom
DESCRIPTION:Details of the Zoom link will be sent out via email.
URL:https://berkshirewoodturners.org.uk/event/4th-wednesday-coffee-morning-on-zoom-30/
LOCATION:Virtual Online Event
CATEGORIES:Calendar,homepage
END:VEVENT
BEGIN:VEVENT
DTSTART;TZID=Europe/London:20250628T100000
DTEND;TZID=Europe/London:20250629T160000
DTSTAMP:20260421T213820
CREATED:20250402T072944Z
LAST-MODIFIED:20250402T072944Z
UID:17909-1751104800-1751212800@berkshirewoodturners.org.uk
SUMMARY:28th June - 29th June 2025 Hurst Show and Country Fayre
DESCRIPTION:Hurst Show \n\nSchool Road\nHurst \nFurther details on FaceBook
URL:https://berkshirewoodturners.org.uk/event/28th-june-29th-june-2025-hurst-show-and-country-fayre/
CATEGORIES:Calendar,homepage
END:VEVENT
BEGIN:VEVENT
DTSTART;TZID=Europe/London:20250701T193000
DTEND;TZID=Europe/London:20250701T213000
DTSTAMP:20260421T213820
CREATED:20241030T191416Z
LAST-MODIFIED:20241030T191416Z
UID:17651-1751398200-1751405400@berkshirewoodturners.org.uk
SUMMARY:1st Tuesday Talking Turning on Zoom
DESCRIPTION:Details of the Zoom link will be sent out via email.
URL:https://berkshirewoodturners.org.uk/event/1st-tuesday-talking-turning-on-zoom-21/
LOCATION:Virtual Online Event
CATEGORIES:Calendar,homepage
END:VEVENT
BEGIN:VEVENT
DTSTART;TZID=Europe/London:20250709T103000
DTEND;TZID=Europe/London:20250709T115900
DTSTAMP:20260421T213820
CREATED:20241123T151551Z
LAST-MODIFIED:20241123T151551Z
UID:17736-1752057000-1752062340@berkshirewoodturners.org.uk
SUMMARY:2nd Wednesday Coffee Morning on Zoom
DESCRIPTION:Details of the Zoom link will be sent out via email.
URL:https://berkshirewoodturners.org.uk/event/2nd-wednesday-coffee-morning-on-zoom-31/
LOCATION:Virtual Online Event
CATEGORIES:Calendar,homepage
END:VEVENT
BEGIN:VEVENT
DTSTART;TZID=Europe/London:20250714T193000
DTEND;TZID=Europe/London:20250714T210000
DTSTAMP:20260421T213820
CREATED:20241123T135626Z
LAST-MODIFIED:20241123T135626Z
UID:17718-1752521400-1752526800@berkshirewoodturners.org.uk
SUMMARY:July 2025 Committee Meeting
DESCRIPTION:
URL:https://berkshirewoodturners.org.uk/event/july-2025-committee-meeting/
LOCATION:Virtual Online Event
CATEGORIES:Calendar,homepage
END:VEVENT
BEGIN:VEVENT
DTSTART;TZID=Europe/London:20250716T191500
DTEND;TZID=Europe/London:20250716T220000
DTSTAMP:20260421T213820
CREATED:20241115T201049Z
LAST-MODIFIED:20241115T201049Z
UID:17669-1752693300-1752703200@berkshirewoodturners.org.uk
SUMMARY:July 2025 Club Meeting
DESCRIPTION:Details of the Zoom link will be sent out via email.
URL:https://berkshirewoodturners.org.uk/event/july-2025-club-meeting/
LOCATION:Priestwood Community Centre\, Priestwood Court Road\, Bracknell\, Berkshire\, RG42 1TU\, United Kingdom
CATEGORIES:Calendar,homepage
END:VEVENT
BEGIN:VEVENT
DTSTART;TZID=Europe/London:20250723T103000
DTEND;TZID=Europe/London:20250723T115900
DTSTAMP:20260421T213820
CREATED:20241123T151551Z
LAST-MODIFIED:20241123T151551Z
UID:17737-1753266600-1753271940@berkshirewoodturners.org.uk
SUMMARY:4th Wednesday Coffee Morning on Zoom
DESCRIPTION:Details of the Zoom link will be sent out via email.
URL:https://berkshirewoodturners.org.uk/event/4th-wednesday-coffee-morning-on-zoom-31/
LOCATION:Virtual Online Event
CATEGORIES:Calendar,homepage
END:VEVENT
BEGIN:VEVENT
DTSTART;TZID=Europe/London:20250805T193000
DTEND;TZID=Europe/London:20250805T213000
DTSTAMP:20260421T213820
CREATED:20241030T191416Z
LAST-MODIFIED:20241030T191416Z
UID:17652-1754422200-1754429400@berkshirewoodturners.org.uk
SUMMARY:1st Tuesday Talking Turning on Zoom
DESCRIPTION:Details of the Zoom link will be sent out via email.
URL:https://berkshirewoodturners.org.uk/event/1st-tuesday-talking-turning-on-zoom-22/
LOCATION:Virtual Online Event
CATEGORIES:Calendar,homepage
END:VEVENT
BEGIN:VEVENT
DTSTART;TZID=Europe/London:20250809T100000
DTEND;TZID=Europe/London:20250810T170000
DTSTAMP:20260421T213820
CREATED:20250402T074042Z
LAST-MODIFIED:20250402T074042Z
UID:17914-1754733600-1754845200@berkshirewoodturners.org.uk
SUMMARY:9th August – 10th August 2025 Chestnut Products Woodturning Weekender
DESCRIPTION:The Museum of the Great Western Railway\nFire Fly Avenue\nSwindon\nSN2 2EY \nFurther details and tickets available from Chestnut Products Woodturning Weekender
URL:https://berkshirewoodturners.org.uk/event/9th-august-10th-august-2025-chestnut-products-woodturning-weekender/
CATEGORIES:Calendar,homepage
END:VEVENT
BEGIN:VEVENT
DTSTART;TZID=Europe/London:20250813T103000
DTEND;TZID=Europe/London:20250813T115900
DTSTAMP:20260421T213820
CREATED:20241123T151552Z
LAST-MODIFIED:20241123T151552Z
UID:17738-1755081000-1755086340@berkshirewoodturners.org.uk
SUMMARY:2nd Wednesday Coffee Morning on Zoom
DESCRIPTION:Details of the Zoom link will be sent out via email.
URL:https://berkshirewoodturners.org.uk/event/2nd-wednesday-coffee-morning-on-zoom-32/
LOCATION:Virtual Online Event
CATEGORIES:Calendar,homepage
END:VEVENT
BEGIN:VEVENT
DTSTART;TZID=Europe/London:20250820T191500
DTEND;TZID=Europe/London:20250820T220000
DTSTAMP:20260421T213820
CREATED:20241115T201049Z
LAST-MODIFIED:20250818T131906Z
UID:17670-1755717300-1755727200@berkshirewoodturners.org.uk
SUMMARY:August 2025 Club Meeting
DESCRIPTION:Demonstrator: Club member John French.  \nDemonstration: Green turning.  \nCompetition Theme: A lighthouse.  \nDetails of the Zoom link will be sent out via email. 
URL:https://berkshirewoodturners.org.uk/event/august-2025-club-meeting/
LOCATION:Priestwood Community Centre\, Priestwood Court Road\, Bracknell\, Berkshire\, RG42 1TU\, United Kingdom
CATEGORIES:Calendar,homepage
END:VEVENT
END:VCALENDAR