BEGIN:VCALENDAR
VERSION:2.0
PRODID:-//Berkshire Woodturners Association - ECPv6.15.20//NONSGML v1.0//EN
CALSCALE:GREGORIAN
METHOD:PUBLISH
X-ORIGINAL-URL:https://berkshirewoodturners.org.uk
X-WR-CALDESC:Events for Berkshire Woodturners Association
REFRESH-INTERVAL;VALUE=DURATION:PT1H
X-Robots-Tag:noindex
X-PUBLISHED-TTL:PT1H
BEGIN:VTIMEZONE
TZID:Europe/London
BEGIN:DAYLIGHT
TZOFFSETFROM:+0000
TZOFFSETTO:+0100
TZNAME:BST
DTSTART:20230326T010000
END:DAYLIGHT
BEGIN:STANDARD
TZOFFSETFROM:+0100
TZOFFSETTO:+0000
TZNAME:GMT
DTSTART:20231029T010000
END:STANDARD
BEGIN:DAYLIGHT
TZOFFSETFROM:+0000
TZOFFSETTO:+0100
TZNAME:BST
DTSTART:20240331T010000
END:DAYLIGHT
BEGIN:STANDARD
TZOFFSETFROM:+0100
TZOFFSETTO:+0000
TZNAME:GMT
DTSTART:20241027T010000
END:STANDARD
BEGIN:DAYLIGHT
TZOFFSETFROM:+0000
TZOFFSETTO:+0100
TZNAME:BST
DTSTART:20250330T010000
END:DAYLIGHT
BEGIN:STANDARD
TZOFFSETFROM:+0100
TZOFFSETTO:+0000
TZNAME:GMT
DTSTART:20251026T010000
END:STANDARD
BEGIN:DAYLIGHT
TZOFFSETFROM:+0000
TZOFFSETTO:+0100
TZNAME:BST
DTSTART:20260329T010000
END:DAYLIGHT
BEGIN:STANDARD
TZOFFSETFROM:+0100
TZOFFSETTO:+0000
TZNAME:GMT
DTSTART:20261025T010000
END:STANDARD
END:VTIMEZONE
BEGIN:VEVENT
DTSTART;TZID=Europe/London:20241001T193000
DTEND;TZID=Europe/London:20241001T213000
DTSTAMP:20260422T004453
CREATED:20231012T124404Z
LAST-MODIFIED:20231012T124404Z
UID:17000-1727811000-1727818200@berkshirewoodturners.org.uk
SUMMARY:1st Tuesday Talking Turning on Zoom
DESCRIPTION:Details of the Zoom link will be sent out via email.
URL:https://berkshirewoodturners.org.uk/event/1st-tuesday-talking-turning-on-zoom-12/
LOCATION:Virtual Online Event
CATEGORIES:Calendar,homepage
END:VEVENT
BEGIN:VEVENT
DTSTART;TZID=Europe/London:20241004T193000
DTEND;TZID=Europe/London:20241004T213000
DTSTAMP:20260422T004453
CREATED:20231103T143947Z
LAST-MODIFIED:20241001T201926Z
UID:17034-1728070200-1728077400@berkshirewoodturners.org.uk
SUMMARY:October Pre-AGM Committee Meeting
DESCRIPTION:On the usual Zoom link
URL:https://berkshirewoodturners.org.uk/event/october-pre-agm-committee-meeting/
LOCATION:Virtual Online Event
END:VEVENT
BEGIN:VEVENT
DTSTART;TZID=Europe/London:20241009T103000
DTEND;TZID=Europe/London:20241009T115900
DTSTAMP:20260422T004453
CREATED:20231119T203217Z
LAST-MODIFIED:20231119T203515Z
UID:17151-1728469800-1728475140@berkshirewoodturners.org.uk
SUMMARY:2nd Wednesday Coffee Morning on Zoom
DESCRIPTION:Details of the Zoom link will be sent out via email.
URL:https://berkshirewoodturners.org.uk/event/2nd-wednesday-coffee-morning-on-zoom-22/
LOCATION:Virtual Online Event
CATEGORIES:Calendar,homepage
END:VEVENT
BEGIN:VEVENT
DTSTART;TZID=Europe/London:20241016T191500
DTEND;TZID=Europe/London:20241016T220000
DTSTAMP:20260422T004453
CREATED:20231103T172027Z
LAST-MODIFIED:20231103T172027Z
UID:17076-1729106100-1729116000@berkshirewoodturners.org.uk
SUMMARY:October 2024 Club Meeting
DESCRIPTION:Details of the Zoom link will be sent out via email.
URL:https://berkshirewoodturners.org.uk/event/october-2024-club-meeting-2/
LOCATION:Priestwood Community Centre\, Priestwood Court Road\, Bracknell\, Berkshire\, RG42 1TU\, United Kingdom
CATEGORIES:Calendar,homepage
END:VEVENT
BEGIN:VEVENT
DTSTART;TZID=Europe/London:20241023T103000
DTEND;TZID=Europe/London:20241023T115900
DTSTAMP:20260422T004453
CREATED:20231119T203217Z
LAST-MODIFIED:20231119T203515Z
UID:17152-1729679400-1729684740@berkshirewoodturners.org.uk
SUMMARY:4th Wednesday Coffee Morning on Zoom
DESCRIPTION:Details of the Zoom link will be sent out via email.
URL:https://berkshirewoodturners.org.uk/event/4th-wednesday-coffee-morning-on-zoom-22/
LOCATION:Virtual Online Event
CATEGORIES:Calendar,homepage
END:VEVENT
BEGIN:VEVENT
DTSTART;TZID=Europe/London:20241112T193000
DTEND;TZID=Europe/London:20241112T213000
DTSTAMP:20260422T004453
CREATED:20241030T191413Z
LAST-MODIFIED:20241104T155035Z
UID:17643-1731439800-1731447000@berkshirewoodturners.org.uk
SUMMARY:2nd Tuesday Talking Turning on Zoom
DESCRIPTION:Details of the Zoom link will be sent out via email.
URL:https://berkshirewoodturners.org.uk/event/1st-tuesday-talking-turning-on-zoom-13/
LOCATION:Virtual Online Event
CATEGORIES:Calendar,homepage
END:VEVENT
BEGIN:VEVENT
DTSTART;TZID=Europe/London:20241113T103000
DTEND;TZID=Europe/London:20241113T115900
DTSTAMP:20260422T004453
CREATED:20231119T203218Z
LAST-MODIFIED:20231119T203516Z
UID:17153-1731493800-1731499140@berkshirewoodturners.org.uk
SUMMARY:2nd Wednesday Coffee Morning on Zoom
DESCRIPTION:Details of the Zoom link will be sent out via email.
URL:https://berkshirewoodturners.org.uk/event/2nd-wednesday-coffee-morning-on-zoom-23/
LOCATION:Virtual Online Event
CATEGORIES:Calendar,homepage
END:VEVENT
BEGIN:VEVENT
DTSTART;TZID=Europe/London:20241120T191500
DTEND;TZID=Europe/London:20241120T220000
DTSTAMP:20260422T004453
CREATED:20231103T172028Z
LAST-MODIFIED:20231103T172028Z
UID:17077-1732130100-1732140000@berkshirewoodturners.org.uk
SUMMARY:November 2024 Club Meeting
DESCRIPTION:Details of the Zoom link will be sent out via email.
URL:https://berkshirewoodturners.org.uk/event/november-2024-club-meeting-2/
LOCATION:Priestwood Community Centre\, Priestwood Court Road\, Bracknell\, Berkshire\, RG42 1TU\, United Kingdom
CATEGORIES:Calendar,homepage
END:VEVENT
BEGIN:VEVENT
DTSTART;TZID=Europe/London:20241127T103000
DTEND;TZID=Europe/London:20241127T115900
DTSTAMP:20260422T004453
CREATED:20231119T203218Z
LAST-MODIFIED:20231119T203516Z
UID:17154-1732703400-1732708740@berkshirewoodturners.org.uk
SUMMARY:4th Wednesday Coffee Morning on Zoom
DESCRIPTION:Details of the Zoom link will be sent out via email.
URL:https://berkshirewoodturners.org.uk/event/4th-wednesday-coffee-morning-on-zoom-23/
LOCATION:Virtual Online Event
CATEGORIES:Calendar,homepage
END:VEVENT
BEGIN:VEVENT
DTSTART;TZID=Europe/London:20241203T193000
DTEND;TZID=Europe/London:20241203T213000
DTSTAMP:20260422T004453
CREATED:20241030T191413Z
LAST-MODIFIED:20241030T191413Z
UID:17644-1733254200-1733261400@berkshirewoodturners.org.uk
SUMMARY:1st Tuesday Talking Turning on Zoom
DESCRIPTION:Details of the Zoom link will be sent out via email.
URL:https://berkshirewoodturners.org.uk/event/1st-tuesday-talking-turning-on-zoom-14/
LOCATION:Virtual Online Event
CATEGORIES:Calendar,homepage
END:VEVENT
BEGIN:VEVENT
DTSTART;TZID=Europe/London:20241211T103000
DTEND;TZID=Europe/London:20241211T115900
DTSTAMP:20260422T004453
CREATED:20231119T203219Z
LAST-MODIFIED:20231119T203516Z
UID:17155-1733913000-1733918340@berkshirewoodturners.org.uk
SUMMARY:2nd Wednesday Coffee Morning on Zoom
DESCRIPTION:Details of the Zoom link will be sent out via email.
URL:https://berkshirewoodturners.org.uk/event/2nd-wednesday-coffee-morning-on-zoom-24/
LOCATION:Virtual Online Event
CATEGORIES:Calendar,homepage
END:VEVENT
BEGIN:VEVENT
DTSTART;TZID=Europe/London:20241218T191500
DTEND;TZID=Europe/London:20241218T220000
DTSTAMP:20260422T004453
CREATED:20231103T172028Z
LAST-MODIFIED:20231103T172028Z
UID:17078-1734549300-1734559200@berkshirewoodturners.org.uk
SUMMARY:December 2024 Club Meeting
DESCRIPTION:Details of the Zoom link will be sent out via email.
URL:https://berkshirewoodturners.org.uk/event/december-2024-club-meeting-2/
LOCATION:Priestwood Community Centre\, Priestwood Court Road\, Bracknell\, Berkshire\, RG42 1TU\, United Kingdom
CATEGORIES:Calendar,homepage
END:VEVENT
BEGIN:VEVENT
DTSTART;TZID=Europe/London:20241225T103000
DTEND;TZID=Europe/London:20241225T115900
DTSTAMP:20260422T004453
CREATED:20231119T203219Z
LAST-MODIFIED:20231119T203516Z
UID:17156-1735122600-1735127940@berkshirewoodturners.org.uk
SUMMARY:4th Wednesday Coffee Morning on Zoom
DESCRIPTION:Details of the Zoom link will be sent out via email.
URL:https://berkshirewoodturners.org.uk/event/4th-wednesday-coffee-morning-on-zoom-24/
LOCATION:Virtual Online Event
CATEGORIES:Calendar,homepage
END:VEVENT
BEGIN:VEVENT
DTSTART;TZID=Europe/London:20250107T193000
DTEND;TZID=Europe/London:20250107T213000
DTSTAMP:20260422T004453
CREATED:20241030T191413Z
LAST-MODIFIED:20241228T142607Z
UID:17645-1736278200-1736285400@berkshirewoodturners.org.uk
SUMMARY:1st Tuesday Talking Turning on Zoom
DESCRIPTION:Details of the Zoom link will be sent out via email.
URL:https://berkshirewoodturners.org.uk/event/1st-tuesday-talking-turning-on-zoom-15/
LOCATION:Virtual Online Event
CATEGORIES:Calendar,homepage
END:VEVENT
BEGIN:VEVENT
DTSTART;TZID=Europe/London:20250108T103000
DTEND;TZID=Europe/London:20250108T115900
DTSTAMP:20260422T004453
CREATED:20241123T151532Z
LAST-MODIFIED:20241123T151532Z
UID:17724-1736332200-1736337540@berkshirewoodturners.org.uk
SUMMARY:2nd Wednesday Coffee Morning on Zoom
DESCRIPTION:Details of the Zoom link will be sent out via email.
URL:https://berkshirewoodturners.org.uk/event/2nd-wednesday-coffee-morning-on-zoom-25/
LOCATION:Virtual Online Event
CATEGORIES:Calendar,homepage
END:VEVENT
BEGIN:VEVENT
DTSTART;TZID=Europe/London:20250113T193000
DTEND;TZID=Europe/London:20250113T210000
DTSTAMP:20260422T004453
CREATED:20241123T132014Z
LAST-MODIFIED:20241123T132014Z
UID:17713-1736796600-1736802000@berkshirewoodturners.org.uk
SUMMARY:January 2025 Committee Meeting
DESCRIPTION:
URL:https://berkshirewoodturners.org.uk/event/january-2025-committee-meeting/
LOCATION:Virtual Online Event
CATEGORIES:Calendar,homepage
END:VEVENT
BEGIN:VEVENT
DTSTART;TZID=Europe/London:20250115T191500
DTEND;TZID=Europe/London:20250115T220000
DTSTAMP:20260422T004453
CREATED:20241115T201045Z
LAST-MODIFIED:20241122T114144Z
UID:17663-1736968500-1736978400@berkshirewoodturners.org.uk
SUMMARY:January 2025 Club Meeting
DESCRIPTION:Demonstrator: Gary Lowe (IRD)\nCompetition Theme: Cruet set \nDetails of the Zoom link will be sent out via email.
URL:https://berkshirewoodturners.org.uk/event/january-2025-club-meeting/
LOCATION:Priestwood Community Centre\, Priestwood Court Road\, Bracknell\, Berkshire\, RG42 1TU\, United Kingdom
CATEGORIES:Calendar,homepage
END:VEVENT
BEGIN:VEVENT
DTSTART;TZID=Europe/London:20250122T103000
DTEND;TZID=Europe/London:20250122T115900
DTSTAMP:20260422T004453
CREATED:20241123T151532Z
LAST-MODIFIED:20241123T151532Z
UID:17725-1737541800-1737547140@berkshirewoodturners.org.uk
SUMMARY:4th Wednesday Coffee Morning on Zoom
DESCRIPTION:Details of the Zoom link will be sent out via email.
URL:https://berkshirewoodturners.org.uk/event/4th-wednesday-coffee-morning-on-zoom-25/
LOCATION:Virtual Online Event
CATEGORIES:Calendar,homepage
END:VEVENT
BEGIN:VEVENT
DTSTART;TZID=Europe/London:20250204T193000
DTEND;TZID=Europe/London:20250204T213000
DTSTAMP:20260422T004453
CREATED:20241030T191413Z
LAST-MODIFIED:20241030T191413Z
UID:17646-1738697400-1738704600@berkshirewoodturners.org.uk
SUMMARY:1st Tuesday Talking Turning on Zoom
DESCRIPTION:Details of the Zoom link will be sent out via email.
URL:https://berkshirewoodturners.org.uk/event/1st-tuesday-talking-turning-on-zoom-16/
LOCATION:Virtual Online Event
CATEGORIES:Calendar,homepage
END:VEVENT
BEGIN:VEVENT
DTSTART;TZID=Europe/London:20250212T103000
DTEND;TZID=Europe/London:20250212T115900
DTSTAMP:20260422T004453
CREATED:20241123T151532Z
LAST-MODIFIED:20241123T151532Z
UID:17726-1739356200-1739361540@berkshirewoodturners.org.uk
SUMMARY:2nd Wednesday Coffee Morning on Zoom
DESCRIPTION:Details of the Zoom link will be sent out via email.
URL:https://berkshirewoodturners.org.uk/event/2nd-wednesday-coffee-morning-on-zoom-26/
LOCATION:Virtual Online Event
CATEGORIES:Calendar,homepage
END:VEVENT
BEGIN:VEVENT
DTSTART;TZID=Europe/London:20250219T191500
DTEND;TZID=Europe/London:20250219T220000
DTSTAMP:20260422T004453
CREATED:20241115T201045Z
LAST-MODIFIED:20241122T114309Z
UID:17664-1739992500-1740002400@berkshirewoodturners.org.uk
SUMMARY:February 2025 Club Meeting
DESCRIPTION:Demonstrator: Club “interactive event” – fun with skews\nCompetition Theme: 3 legged Plant stand/ stool \nDetails of the Zoom link will be sent out via email.
URL:https://berkshirewoodturners.org.uk/event/february-2025-club-meeting/
LOCATION:Priestwood Community Centre\, Priestwood Court Road\, Bracknell\, Berkshire\, RG42 1TU\, United Kingdom
CATEGORIES:Calendar,homepage
END:VEVENT
BEGIN:VEVENT
DTSTART;TZID=Europe/London:20250226T103000
DTEND;TZID=Europe/London:20250226T115900
DTSTAMP:20260422T004453
CREATED:20241123T151533Z
LAST-MODIFIED:20241123T151533Z
UID:17727-1740565800-1740571140@berkshirewoodturners.org.uk
SUMMARY:4th Wednesday Coffee Morning on Zoom
DESCRIPTION:Details of the Zoom link will be sent out via email.
URL:https://berkshirewoodturners.org.uk/event/4th-wednesday-coffee-morning-on-zoom-26/
LOCATION:Virtual Online Event
CATEGORIES:Calendar,homepage
END:VEVENT
BEGIN:VEVENT
DTSTART;TZID=Europe/London:20250304T193000
DTEND;TZID=Europe/London:20250304T213000
DTSTAMP:20260422T004453
CREATED:20241030T191414Z
LAST-MODIFIED:20241030T191414Z
UID:17647-1741116600-1741123800@berkshirewoodturners.org.uk
SUMMARY:1st Tuesday Talking Turning on Zoom
DESCRIPTION:Details of the Zoom link will be sent out via email.
URL:https://berkshirewoodturners.org.uk/event/1st-tuesday-talking-turning-on-zoom-17/
LOCATION:Virtual Online Event
CATEGORIES:Calendar,homepage
END:VEVENT
BEGIN:VEVENT
DTSTART;TZID=Europe/London:20250312T103000
DTEND;TZID=Europe/London:20250312T115900
DTSTAMP:20260422T004453
CREATED:20241123T151533Z
LAST-MODIFIED:20241123T151533Z
UID:17728-1741775400-1741780740@berkshirewoodturners.org.uk
SUMMARY:2nd Wednesday Coffee Morning on Zoom
DESCRIPTION:Details of the Zoom link will be sent out via email.
URL:https://berkshirewoodturners.org.uk/event/2nd-wednesday-coffee-morning-on-zoom-27/
LOCATION:Virtual Online Event
CATEGORIES:Calendar,homepage
END:VEVENT
BEGIN:VEVENT
DTSTART;TZID=Europe/London:20250319T191500
DTEND;TZID=Europe/London:20250319T220000
DTSTAMP:20260422T004453
CREATED:20241115T201045Z
LAST-MODIFIED:20241122T114411Z
UID:17665-1742411700-1742421600@berkshirewoodturners.org.uk
SUMMARY:March 2025 Club Meeting
DESCRIPTION:Demonstrator: Chris Parker (In person)\nCompetition Theme: A ‘one handed tear off ‘ kitchen roll holder \nDetails of the Zoom link will be sent out via email.
URL:https://berkshirewoodturners.org.uk/event/march-2025-club-meeting/
LOCATION:Priestwood Community Centre\, Priestwood Court Road\, Bracknell\, Berkshire\, RG42 1TU\, United Kingdom
CATEGORIES:Calendar,homepage
END:VEVENT
BEGIN:VEVENT
DTSTART;TZID=Europe/London:20250326T103000
DTEND;TZID=Europe/London:20250326T115900
DTSTAMP:20260422T004453
CREATED:20241123T151535Z
LAST-MODIFIED:20241123T151535Z
UID:17729-1742985000-1742990340@berkshirewoodturners.org.uk
SUMMARY:4th Wednesday Coffee Morning on Zoom
DESCRIPTION:Details of the Zoom link will be sent out via email.
URL:https://berkshirewoodturners.org.uk/event/4th-wednesday-coffee-morning-on-zoom-27/
LOCATION:Virtual Online Event
CATEGORIES:Calendar,homepage
END:VEVENT
BEGIN:VEVENT
DTSTART;TZID=Europe/London:20250401T193000
DTEND;TZID=Europe/London:20250401T213000
DTSTAMP:20260422T004453
CREATED:20241030T191415Z
LAST-MODIFIED:20250330T110600Z
UID:17648-1743535800-1743543000@berkshirewoodturners.org.uk
SUMMARY:1st Tuesday Talking Turning on Zoom
DESCRIPTION:Details of the Zoom link will be sent out via email.
URL:https://berkshirewoodturners.org.uk/event/1st-tuesday-talking-turning-on-zoom-18/
LOCATION:Virtual Online Event
CATEGORIES:Calendar,homepage
END:VEVENT
BEGIN:VEVENT
DTSTART;TZID=Europe/London:20250409T103000
DTEND;TZID=Europe/London:20250409T115900
DTSTAMP:20260422T004453
CREATED:20241123T151535Z
LAST-MODIFIED:20241123T151535Z
UID:17730-1744194600-1744199940@berkshirewoodturners.org.uk
SUMMARY:2nd Wednesday Coffee Morning on Zoom
DESCRIPTION:Details of the Zoom link will be sent out via email.
URL:https://berkshirewoodturners.org.uk/event/2nd-wednesday-coffee-morning-on-zoom-28/
LOCATION:Virtual Online Event
CATEGORIES:Calendar,homepage
END:VEVENT
BEGIN:VEVENT
DTSTART;TZID=Europe/London:20250414T193000
DTEND;TZID=Europe/London:20250414T210000
DTSTAMP:20260422T004453
CREATED:20241123T132116Z
LAST-MODIFIED:20241123T132116Z
UID:17715-1744659000-1744664400@berkshirewoodturners.org.uk
SUMMARY:April 2025 Committee Meeting
DESCRIPTION:
URL:https://berkshirewoodturners.org.uk/event/april-2025-committee-meeting/
LOCATION:Virtual Online Event
CATEGORIES:Calendar,homepage
END:VEVENT
BEGIN:VEVENT
DTSTART;TZID=Europe/London:20250416T191500
DTEND;TZID=Europe/London:20250416T220000
DTSTAMP:20260422T004453
CREATED:20241115T201045Z
LAST-MODIFIED:20241115T201045Z
UID:17666-1744830900-1744840800@berkshirewoodturners.org.uk
SUMMARY:April 2025 Club Meeting
DESCRIPTION:Details of the Zoom link will be sent out via email.
URL:https://berkshirewoodturners.org.uk/event/april-2025-club-meeting/
LOCATION:Priestwood Community Centre\, Priestwood Court Road\, Bracknell\, Berkshire\, RG42 1TU\, United Kingdom
CATEGORIES:Calendar,homepage
END:VEVENT
END:VCALENDAR