BEGIN:VCALENDAR
VERSION:2.0
PRODID:-//Berkshire Woodturners Association - ECPv6.15.20//NONSGML v1.0//EN
CALSCALE:GREGORIAN
METHOD:PUBLISH
X-ORIGINAL-URL:https://berkshirewoodturners.org.uk
X-WR-CALDESC:Events for Berkshire Woodturners Association
REFRESH-INTERVAL;VALUE=DURATION:PT1H
X-Robots-Tag:noindex
X-PUBLISHED-TTL:PT1H
BEGIN:VTIMEZONE
TZID:Europe/London
BEGIN:DAYLIGHT
TZOFFSETFROM:+0000
TZOFFSETTO:+0100
TZNAME:BST
DTSTART:20230326T010000
END:DAYLIGHT
BEGIN:STANDARD
TZOFFSETFROM:+0100
TZOFFSETTO:+0000
TZNAME:GMT
DTSTART:20231029T010000
END:STANDARD
BEGIN:DAYLIGHT
TZOFFSETFROM:+0000
TZOFFSETTO:+0100
TZNAME:BST
DTSTART:20240331T010000
END:DAYLIGHT
BEGIN:STANDARD
TZOFFSETFROM:+0100
TZOFFSETTO:+0000
TZNAME:GMT
DTSTART:20241027T010000
END:STANDARD
BEGIN:DAYLIGHT
TZOFFSETFROM:+0000
TZOFFSETTO:+0100
TZNAME:BST
DTSTART:20250330T010000
END:DAYLIGHT
BEGIN:STANDARD
TZOFFSETFROM:+0100
TZOFFSETTO:+0000
TZNAME:GMT
DTSTART:20251026T010000
END:STANDARD
END:VTIMEZONE
BEGIN:VEVENT
DTSTART;TZID=Europe/London:20240604T193000
DTEND;TZID=Europe/London:20240604T213000
DTSTAMP:20260422T232414
CREATED:20231012T124402Z
LAST-MODIFIED:20231012T124402Z
UID:16996-1717529400-1717536600@berkshirewoodturners.org.uk
SUMMARY:1st Tuesday Talking Turning on Zoom
DESCRIPTION:Details of the Zoom link will be sent out via email.
URL:https://berkshirewoodturners.org.uk/event/1st-tuesday-talking-turning-on-zoom-8/
LOCATION:Virtual Online Event
CATEGORIES:Calendar,homepage
END:VEVENT
BEGIN:VEVENT
DTSTART;TZID=Europe/London:20240612T103000
DTEND;TZID=Europe/London:20240612T115900
DTSTAMP:20260422T232414
CREATED:20231119T203203Z
LAST-MODIFIED:20231119T203501Z
UID:17143-1718188200-1718193540@berkshirewoodturners.org.uk
SUMMARY:2nd Wednesday Coffee Morning on Zoom
DESCRIPTION:Details of the Zoom link will be sent out via email.
URL:https://berkshirewoodturners.org.uk/event/2nd-wednesday-coffee-morning-on-zoom-18/
LOCATION:Virtual Online Event
CATEGORIES:Calendar,homepage
END:VEVENT
BEGIN:VEVENT
DTSTART;TZID=Europe/London:20240619T191500
DTEND;TZID=Europe/London:20240619T220000
DTSTAMP:20260422T232414
CREATED:20231103T172026Z
LAST-MODIFIED:20240517T073542Z
UID:17072-1718824500-1718834400@berkshirewoodturners.org.uk
SUMMARY:June 2024 Club Meeting
DESCRIPTION:General Sale\, including wood\nCompetition Theme: An item designed to hang on the wall
URL:https://berkshirewoodturners.org.uk/event/june-2024-club-meeting-2/
LOCATION:Priestwood Community Centre\, Priestwood Court Road\, Bracknell\, Berkshire\, RG42 1TU\, United Kingdom
CATEGORIES:Calendar,homepage
END:VEVENT
BEGIN:VEVENT
DTSTART;TZID=Europe/London:20240626T103000
DTEND;TZID=Europe/London:20240626T115900
DTSTAMP:20260422T232414
CREATED:20231119T203203Z
LAST-MODIFIED:20231119T203501Z
UID:17144-1719397800-1719403140@berkshirewoodturners.org.uk
SUMMARY:4th Wednesday Coffee Morning on Zoom
DESCRIPTION:Details of the Zoom link will be sent out via email.
URL:https://berkshirewoodturners.org.uk/event/4th-wednesday-coffee-morning-on-zoom-18/
LOCATION:Virtual Online Event
CATEGORIES:Calendar,homepage
END:VEVENT
BEGIN:VEVENT
DTSTART;TZID=Europe/London:20240629T100000
DTEND;TZID=Europe/London:20240630T170000
DTSTAMP:20260422T232414
CREATED:20240203T153420Z
LAST-MODIFIED:20240203T153516Z
UID:17335-1719655200-1719766800@berkshirewoodturners.org.uk
SUMMARY:29th June - 30th June 2024 Hurst Show and Country Fayre
DESCRIPTION:Hurst Show \n\nSchool Road\nHurst \nFurther details on FaceBook
URL:https://berkshirewoodturners.org.uk/event/29th-june-30th-june-hurst-show-and-country-fayre/
CATEGORIES:Calendar,homepage
END:VEVENT
END:VCALENDAR