BEGIN:VCALENDAR
VERSION:2.0
PRODID:-//Berkshire Woodturners Association - ECPv6.15.20//NONSGML v1.0//EN
CALSCALE:GREGORIAN
METHOD:PUBLISH
X-ORIGINAL-URL:https://berkshirewoodturners.org.uk
X-WR-CALDESC:Events for Berkshire Woodturners Association
REFRESH-INTERVAL;VALUE=DURATION:PT1H
X-Robots-Tag:noindex
X-PUBLISHED-TTL:PT1H
BEGIN:VTIMEZONE
TZID:Europe/London
BEGIN:DAYLIGHT
TZOFFSETFROM:+0000
TZOFFSETTO:+0100
TZNAME:BST
DTSTART:20210328T010000
END:DAYLIGHT
BEGIN:STANDARD
TZOFFSETFROM:+0100
TZOFFSETTO:+0000
TZNAME:GMT
DTSTART:20211031T010000
END:STANDARD
BEGIN:DAYLIGHT
TZOFFSETFROM:+0000
TZOFFSETTO:+0100
TZNAME:BST
DTSTART:20220327T010000
END:DAYLIGHT
BEGIN:STANDARD
TZOFFSETFROM:+0100
TZOFFSETTO:+0000
TZNAME:GMT
DTSTART:20221030T010000
END:STANDARD
BEGIN:DAYLIGHT
TZOFFSETFROM:+0000
TZOFFSETTO:+0100
TZNAME:BST
DTSTART:20230326T010000
END:DAYLIGHT
BEGIN:STANDARD
TZOFFSETFROM:+0100
TZOFFSETTO:+0000
TZNAME:GMT
DTSTART:20231029T010000
END:STANDARD
END:VTIMEZONE
BEGIN:VEVENT
DTSTART;TZID=Europe/London:20220316T190000
DTEND;TZID=Europe/London:20220316T220000
DTSTAMP:20260424T161816
CREATED:20220123T164429Z
LAST-MODIFIED:20220302T202126Z
UID:1878-1647457200-1647468000@berkshirewoodturners.org.uk
SUMMARY:16th March Club Meeting
DESCRIPTION:Demonstrator: Ben Dick \nCombined In Hall and Zoom demo – details of the Zoom link will be sent out via email. \nDemo will be a Tower spinning top with innovative colouring technique
URL:https://berkshirewoodturners.org.uk/event/16th-march-club-meeting/
LOCATION:Priestwood Community Centre\, Priestwood Court Road\, Bracknell\, Berkshire\, RG42 1TU\, United Kingdom
CATEGORIES:Calendar,homepage
END:VEVENT
BEGIN:VEVENT
DTSTART;TZID=Europe/London:20220323T103000
DTEND;TZID=Europe/London:20220323T103000
DTSTAMP:20260424T161816
CREATED:20220228T123331Z
LAST-MODIFIED:20220228T123550Z
UID:2516-1648031400-1648031400@berkshirewoodturners.org.uk
SUMMARY:23rd March Coffee Morning on Zoom
DESCRIPTION:Details of the Zoom link will be sent out via email.
URL:https://berkshirewoodturners.org.uk/event/23rd-march-coffee-morning-on-zoom-2/
LOCATION:Virtual Online Event
CATEGORIES:Calendar,homepage
END:VEVENT
END:VCALENDAR