BEGIN:VCALENDAR
VERSION:2.0
PRODID:-//Berkshire Woodturners Association - ECPv6.15.20//NONSGML v1.0//EN
CALSCALE:GREGORIAN
METHOD:PUBLISH
X-WR-CALNAME:Berkshire Woodturners Association
X-ORIGINAL-URL:https://berkshirewoodturners.org.uk
X-WR-CALDESC:Events for Berkshire Woodturners Association
REFRESH-INTERVAL;VALUE=DURATION:PT1H
X-Robots-Tag:noindex
X-PUBLISHED-TTL:PT1H
BEGIN:VTIMEZONE
TZID:Europe/London
BEGIN:DAYLIGHT
TZOFFSETFROM:+0000
TZOFFSETTO:+0100
TZNAME:BST
DTSTART:20210328T010000
END:DAYLIGHT
BEGIN:STANDARD
TZOFFSETFROM:+0100
TZOFFSETTO:+0000
TZNAME:GMT
DTSTART:20211031T010000
END:STANDARD
BEGIN:DAYLIGHT
TZOFFSETFROM:+0000
TZOFFSETTO:+0100
TZNAME:BST
DTSTART:20220327T010000
END:DAYLIGHT
BEGIN:STANDARD
TZOFFSETFROM:+0100
TZOFFSETTO:+0000
TZNAME:GMT
DTSTART:20221030T010000
END:STANDARD
BEGIN:DAYLIGHT
TZOFFSETFROM:+0000
TZOFFSETTO:+0100
TZNAME:BST
DTSTART:20230326T010000
END:DAYLIGHT
BEGIN:STANDARD
TZOFFSETFROM:+0100
TZOFFSETTO:+0000
TZNAME:GMT
DTSTART:20231029T010000
END:STANDARD
BEGIN:DAYLIGHT
TZOFFSETFROM:+0000
TZOFFSETTO:+0100
TZNAME:BST
DTSTART:20240331T010000
END:DAYLIGHT
BEGIN:STANDARD
TZOFFSETFROM:+0100
TZOFFSETTO:+0000
TZNAME:GMT
DTSTART:20241027T010000
END:STANDARD
END:VTIMEZONE
BEGIN:VEVENT
DTSTART;TZID=Europe/London:20221228T103000
DTEND;TZID=Europe/London:20221228T120000
DTSTAMP:20260424T113649
CREATED:20220419T105900Z
LAST-MODIFIED:20221125T165156Z
UID:16022-1672223400-1672228800@berkshirewoodturners.org.uk
SUMMARY:28th December Coffee Morning on Zoom
DESCRIPTION:Details of the Zoom link will be sent out via email.
URL:https://berkshirewoodturners.org.uk/event/28th-december-coffee-morning-on-zoom/
LOCATION:Virtual Online Event
CATEGORIES:Calendar,homepage
END:VEVENT
BEGIN:VEVENT
DTSTART;TZID=Europe/London:20230109T193000
DTEND;TZID=Europe/London:20230109T213000
DTSTAMP:20260424T113649
CREATED:20230106T172838Z
LAST-MODIFIED:20230106T172838Z
UID:16627-1673292600-1673299800@berkshirewoodturners.org.uk
SUMMARY:Committee Meeting
DESCRIPTION:On the usual Zoom link
URL:https://berkshirewoodturners.org.uk/event/committee-meeting/
LOCATION:Virtual Online Event
CATEGORIES:Calendar,homepage
END:VEVENT
BEGIN:VEVENT
DTSTART;TZID=Europe/London:20230111T103000
DTEND;TZID=Europe/London:20230111T115900
DTSTAMP:20260424T113649
CREATED:20221217T161511Z
LAST-MODIFIED:20221217T161511Z
UID:16539-1673433000-1673438340@berkshirewoodturners.org.uk
SUMMARY:2nd Wednesday Coffee Morning on Zoom
DESCRIPTION:Details of the Zoom link will be sent out via email.
URL:https://berkshirewoodturners.org.uk/event/2nd-wednesday-coffee-morning-on-zoom/
LOCATION:Virtual Online Event
CATEGORIES:Calendar,homepage
END:VEVENT
BEGIN:VEVENT
DTSTART;TZID=Europe/London:20230118T190000
DTEND;TZID=Europe/London:20230118T220000
DTSTAMP:20260424T113649
CREATED:20220825T111418Z
LAST-MODIFIED:20230103T220200Z
UID:16390-1674068400-1674079200@berkshirewoodturners.org.uk
SUMMARY:18th January Club Meeting
DESCRIPTION:Demonstrator: Chris Parker \nThis is an IRD viewable via Zoom in the clubhouse or from home. \nDetails of the Zoom link for viewing from home will be sent out via email.
URL:https://berkshirewoodturners.org.uk/event/18th-january-club-meeting/
LOCATION:Priestwood Community Centre\, Priestwood Court Road\, Bracknell\, Berkshire\, RG42 1TU\, United Kingdom
CATEGORIES:Calendar,homepage
END:VEVENT
BEGIN:VEVENT
DTSTART;TZID=Europe/London:20230125T103000
DTEND;TZID=Europe/London:20230125T115900
DTSTAMP:20260424T113649
CREATED:20221217T161511Z
LAST-MODIFIED:20221217T161511Z
UID:16540-1674642600-1674647940@berkshirewoodturners.org.uk
SUMMARY:4th Wednesday Coffee Morning on Zoom
DESCRIPTION:Details of the Zoom link will be sent out via email.
URL:https://berkshirewoodturners.org.uk/event/4th-wednesday-coffee-morning-on-zoom/
LOCATION:Virtual Online Event
CATEGORIES:Calendar,homepage
END:VEVENT
BEGIN:VEVENT
DTSTART;TZID=Europe/London:20230208T103000
DTEND;TZID=Europe/London:20230208T115900
DTSTAMP:20260424T113649
CREATED:20221217T162450Z
LAST-MODIFIED:20221217T162450Z
UID:16543-1675852200-1675857540@berkshirewoodturners.org.uk
SUMMARY:2nd Wednesday Coffee Morning on Zoom
DESCRIPTION:Details of the Zoom link will be sent out via email.
URL:https://berkshirewoodturners.org.uk/event/2nd-wednesday-coffee-morning-on-zoom-2/
LOCATION:Virtual Online Event
CATEGORIES:Calendar,homepage
END:VEVENT
BEGIN:VEVENT
DTSTART;TZID=Europe/London:20230222T103000
DTEND;TZID=Europe/London:20230222T115900
DTSTAMP:20260424T113649
CREATED:20221217T162450Z
LAST-MODIFIED:20221217T162450Z
UID:16544-1677061800-1677067140@berkshirewoodturners.org.uk
SUMMARY:4th Wednesday Coffee Morning on Zoom
DESCRIPTION:Details of the Zoom link will be sent out via email.
URL:https://berkshirewoodturners.org.uk/event/4th-wednesday-coffee-morning-on-zoom-2/
LOCATION:Virtual Online Event
CATEGORIES:Calendar,homepage
END:VEVENT
BEGIN:VEVENT
DTSTART;TZID=Europe/London:20230308T103000
DTEND;TZID=Europe/London:20230308T115900
DTSTAMP:20260424T113649
CREATED:20221217T162450Z
LAST-MODIFIED:20221217T162450Z
UID:16545-1678271400-1678276740@berkshirewoodturners.org.uk
SUMMARY:2nd Wednesday Coffee Morning on Zoom
DESCRIPTION:Details of the Zoom link will be sent out via email.
URL:https://berkshirewoodturners.org.uk/event/2nd-wednesday-coffee-morning-on-zoom-3/
LOCATION:Virtual Online Event
CATEGORIES:Calendar,homepage
END:VEVENT
BEGIN:VEVENT
DTSTART;TZID=Europe/London:20230322T103000
DTEND;TZID=Europe/London:20230322T115900
DTSTAMP:20260424T113649
CREATED:20221217T162450Z
LAST-MODIFIED:20221217T162450Z
UID:16546-1679481000-1679486340@berkshirewoodturners.org.uk
SUMMARY:4th Wednesday Coffee Morning on Zoom
DESCRIPTION:Details of the Zoom link will be sent out via email.
URL:https://berkshirewoodturners.org.uk/event/4th-wednesday-coffee-morning-on-zoom-3/
LOCATION:Virtual Online Event
CATEGORIES:Calendar,homepage
END:VEVENT
BEGIN:VEVENT
DTSTART;TZID=Europe/London:20230412T103000
DTEND;TZID=Europe/London:20230412T115900
DTSTAMP:20260424T113649
CREATED:20221217T162450Z
LAST-MODIFIED:20221217T162450Z
UID:16547-1681295400-1681300740@berkshirewoodturners.org.uk
SUMMARY:2nd Wednesday Coffee Morning on Zoom
DESCRIPTION:Details of the Zoom link will be sent out via email.
URL:https://berkshirewoodturners.org.uk/event/2nd-wednesday-coffee-morning-on-zoom-4/
LOCATION:Virtual Online Event
CATEGORIES:Calendar,homepage
END:VEVENT
BEGIN:VEVENT
DTSTART;TZID=Europe/London:20230426T103000
DTEND;TZID=Europe/London:20230426T115900
DTSTAMP:20260424T113649
CREATED:20221217T162452Z
LAST-MODIFIED:20221217T162452Z
UID:16548-1682505000-1682510340@berkshirewoodturners.org.uk
SUMMARY:4th Wednesday Coffee Morning on Zoom
DESCRIPTION:Details of the Zoom link will be sent out via email.
URL:https://berkshirewoodturners.org.uk/event/4th-wednesday-coffee-morning-on-zoom-4/
LOCATION:Virtual Online Event
CATEGORIES:Calendar,homepage
END:VEVENT
BEGIN:VEVENT
DTSTART;TZID=Europe/London:20230510T103000
DTEND;TZID=Europe/London:20230510T115900
DTSTAMP:20260424T113649
CREATED:20221217T162452Z
LAST-MODIFIED:20221217T162452Z
UID:16549-1683714600-1683719940@berkshirewoodturners.org.uk
SUMMARY:2nd Wednesday Coffee Morning on Zoom
DESCRIPTION:Details of the Zoom link will be sent out via email.
URL:https://berkshirewoodturners.org.uk/event/2nd-wednesday-coffee-morning-on-zoom-5/
LOCATION:Virtual Online Event
CATEGORIES:Calendar,homepage
END:VEVENT
BEGIN:VEVENT
DTSTART;TZID=Europe/London:20230524T103000
DTEND;TZID=Europe/London:20230524T115900
DTSTAMP:20260424T113649
CREATED:20221217T162452Z
LAST-MODIFIED:20221217T162452Z
UID:16550-1684924200-1684929540@berkshirewoodturners.org.uk
SUMMARY:4th Wednesday Coffee Morning on Zoom
DESCRIPTION:Details of the Zoom link will be sent out via email.
URL:https://berkshirewoodturners.org.uk/event/4th-wednesday-coffee-morning-on-zoom-5/
LOCATION:Virtual Online Event
CATEGORIES:Calendar,homepage
END:VEVENT
BEGIN:VEVENT
DTSTART;TZID=Europe/London:20230614T103000
DTEND;TZID=Europe/London:20230614T115900
DTSTAMP:20260424T113649
CREATED:20221217T162452Z
LAST-MODIFIED:20221217T162452Z
UID:16551-1686738600-1686743940@berkshirewoodturners.org.uk
SUMMARY:2nd Wednesday Coffee Morning on Zoom
DESCRIPTION:Details of the Zoom link will be sent out via email.
URL:https://berkshirewoodturners.org.uk/event/2nd-wednesday-coffee-morning-on-zoom-6/
LOCATION:Virtual Online Event
CATEGORIES:Calendar,homepage
END:VEVENT
BEGIN:VEVENT
DTSTART;TZID=Europe/London:20230628T103000
DTEND;TZID=Europe/London:20230628T115900
DTSTAMP:20260424T113649
CREATED:20221217T162452Z
LAST-MODIFIED:20221217T162452Z
UID:16552-1687948200-1687953540@berkshirewoodturners.org.uk
SUMMARY:4th Wednesday Coffee Morning on Zoom
DESCRIPTION:Details of the Zoom link will be sent out via email.
URL:https://berkshirewoodturners.org.uk/event/4th-wednesday-coffee-morning-on-zoom-6/
LOCATION:Virtual Online Event
CATEGORIES:Calendar,homepage
END:VEVENT
BEGIN:VEVENT
DTSTART;TZID=Europe/London:20230701T100000
DTEND;TZID=Europe/London:20230702T170000
DTSTAMP:20260424T113649
CREATED:20230215T161229Z
LAST-MODIFIED:20230215T161434Z
UID:16694-1688205600-1688317200@berkshirewoodturners.org.uk
SUMMARY:1st July – 2nd July 2023 Bucks Country Show
DESCRIPTION:Bucks Country Show \nPenn Street\nHorse Moor Lane\nBeaconsfield\nAmersham\nHP7 0PS \nFurther details on FaceBook
URL:https://berkshirewoodturners.org.uk/event/1st-july-2nd-july-2022-bucks-country-show/
CATEGORIES:Calendar,homepage
END:VEVENT
BEGIN:VEVENT
DTSTART;TZID=Europe/London:20230712T103000
DTEND;TZID=Europe/London:20230712T115900
DTSTAMP:20260424T113649
CREATED:20221217T162453Z
LAST-MODIFIED:20221217T162453Z
UID:16553-1689157800-1689163140@berkshirewoodturners.org.uk
SUMMARY:2nd Wednesday Coffee Morning on Zoom
DESCRIPTION:Details of the Zoom link will be sent out via email.
URL:https://berkshirewoodturners.org.uk/event/2nd-wednesday-coffee-morning-on-zoom-7/
LOCATION:Virtual Online Event
CATEGORIES:Calendar,homepage
END:VEVENT
BEGIN:VEVENT
DTSTART;TZID=Europe/London:20230719T190000
DTEND;TZID=Europe/London:20230719T220000
DTSTAMP:20260424T113649
CREATED:20230209T201626Z
LAST-MODIFIED:20230209T201626Z
UID:16677-1689793200-1689804000@berkshirewoodturners.org.uk
SUMMARY:19th July Club Meeting
DESCRIPTION:Demonstrator: Gary Rance \nCombined In Hall and Zoom demo – details of the Zoom link will be sent out via email.
URL:https://berkshirewoodturners.org.uk/event/19th-july-club-meeting/
LOCATION:Priestwood Community Centre\, Priestwood Court Road\, Bracknell\, Berkshire\, RG42 1TU\, United Kingdom
CATEGORIES:Calendar,homepage
END:VEVENT
BEGIN:VEVENT
DTSTART;TZID=Europe/London:20230726T103000
DTEND;TZID=Europe/London:20230726T115900
DTSTAMP:20260424T113649
CREATED:20221217T162453Z
LAST-MODIFIED:20221217T162453Z
UID:16554-1690367400-1690372740@berkshirewoodturners.org.uk
SUMMARY:4th Wednesday Coffee Morning on Zoom
DESCRIPTION:Details of the Zoom link will be sent out via email.
URL:https://berkshirewoodturners.org.uk/event/4th-wednesday-coffee-morning-on-zoom-7/
LOCATION:Virtual Online Event
CATEGORIES:Calendar,homepage
END:VEVENT
BEGIN:VEVENT
DTSTART;TZID=Europe/London:20230809T103000
DTEND;TZID=Europe/London:20230809T115900
DTSTAMP:20260424T113649
CREATED:20221217T162453Z
LAST-MODIFIED:20221217T162453Z
UID:16555-1691577000-1691582340@berkshirewoodturners.org.uk
SUMMARY:2nd Wednesday Coffee Morning on Zoom
DESCRIPTION:Details of the Zoom link will be sent out via email.
URL:https://berkshirewoodturners.org.uk/event/2nd-wednesday-coffee-morning-on-zoom-8/
LOCATION:Virtual Online Event
CATEGORIES:Calendar,homepage
END:VEVENT
BEGIN:VEVENT
DTSTART;TZID=Europe/London:20230816T190000
DTEND;TZID=Europe/London:20230816T220000
DTSTAMP:20260424T113649
CREATED:20230209T201825Z
LAST-MODIFIED:20230810T125336Z
UID:16679-1692212400-1692223200@berkshirewoodturners.org.uk
SUMMARY:16th August Club Meeting
DESCRIPTION:Demonstrator: Jo Sonja paints demo by Lynn and also the Club Wood Sale \nIn Hall only \n 
URL:https://berkshirewoodturners.org.uk/event/16th-august-club-meeting/
LOCATION:Priestwood Community Centre\, Priestwood Court Road\, Bracknell\, Berkshire\, RG42 1TU\, United Kingdom
CATEGORIES:Calendar,homepage
END:VEVENT
BEGIN:VEVENT
DTSTART;TZID=Europe/London:20230823T103000
DTEND;TZID=Europe/London:20230823T115900
DTSTAMP:20260424T113649
CREATED:20221217T162453Z
LAST-MODIFIED:20221217T162453Z
UID:16556-1692786600-1692791940@berkshirewoodturners.org.uk
SUMMARY:4th Wednesday Coffee Morning on Zoom
DESCRIPTION:Details of the Zoom link will be sent out via email.
URL:https://berkshirewoodturners.org.uk/event/4th-wednesday-coffee-morning-on-zoom-8/
LOCATION:Virtual Online Event
CATEGORIES:Calendar,homepage
END:VEVENT
BEGIN:VEVENT
DTSTART;TZID=Europe/London:20230825T100000
DTEND;TZID=Europe/London:20230828T170000
DTSTAMP:20260424T113649
CREATED:20230215T161531Z
LAST-MODIFIED:20230215T161649Z
UID:16696-1692957600-1693242000@berkshirewoodturners.org.uk
SUMMARY:25th August – 28th August 2023 Henley Country Craft Show\, Stonor Park
DESCRIPTION:Stonor Park\nHenley-on-Thames\nRG9 6HF \nFurther details and tickets available from Henley Country Craft Show
URL:https://berkshirewoodturners.org.uk/event/25th-august-28th-august-2023-henley-country-craft-show-stonor-park/
CATEGORIES:Calendar,homepage
END:VEVENT
BEGIN:VEVENT
DTSTART;TZID=Europe/London:20230913T103000
DTEND;TZID=Europe/London:20230913T115900
DTSTAMP:20260424T113649
CREATED:20221217T162454Z
LAST-MODIFIED:20221217T162454Z
UID:16557-1694601000-1694606340@berkshirewoodturners.org.uk
SUMMARY:2nd Wednesday Coffee Morning on Zoom
DESCRIPTION:Details of the Zoom link will be sent out via email.
URL:https://berkshirewoodturners.org.uk/event/2nd-wednesday-coffee-morning-on-zoom-9/
LOCATION:Virtual Online Event
CATEGORIES:Calendar,homepage
END:VEVENT
BEGIN:VEVENT
DTSTART;TZID=Europe/London:20230920T190000
DTEND;TZID=Europe/London:20230920T220000
DTSTAMP:20260424T113649
CREATED:20230209T211903Z
LAST-MODIFIED:20230209T211903Z
UID:16681-1695236400-1695247200@berkshirewoodturners.org.uk
SUMMARY:20th September Club Meeting
DESCRIPTION:Demonstrator: Les Thorne \nCombined In Hall and Zoom demo – details of the Zoom link will be sent out via email.
URL:https://berkshirewoodturners.org.uk/event/20th-september-club-meeting/
LOCATION:Priestwood Community Centre\, Priestwood Court Road\, Bracknell\, Berkshire\, RG42 1TU\, United Kingdom
CATEGORIES:Calendar,homepage
END:VEVENT
BEGIN:VEVENT
DTSTART;TZID=Europe/London:20230927T103000
DTEND;TZID=Europe/London:20230927T115900
DTSTAMP:20260424T113649
CREATED:20221217T162509Z
LAST-MODIFIED:20221217T162509Z
UID:16558-1695810600-1695815940@berkshirewoodturners.org.uk
SUMMARY:4th Wednesday Coffee Morning on Zoom
DESCRIPTION:Details of the Zoom link will be sent out via email.
URL:https://berkshirewoodturners.org.uk/event/4th-wednesday-coffee-morning-on-zoom-9/
LOCATION:Virtual Online Event
CATEGORIES:Calendar,homepage
END:VEVENT
BEGIN:VEVENT
DTSTART;TZID=Europe/London:20231011T103000
DTEND;TZID=Europe/London:20231011T115900
DTSTAMP:20260424T113649
CREATED:20221217T162509Z
LAST-MODIFIED:20221217T162509Z
UID:16559-1697020200-1697025540@berkshirewoodturners.org.uk
SUMMARY:2nd Wednesday Coffee Morning on Zoom
DESCRIPTION:Details of the Zoom link will be sent out via email.
URL:https://berkshirewoodturners.org.uk/event/2nd-wednesday-coffee-morning-on-zoom-10/
LOCATION:Virtual Online Event
CATEGORIES:Calendar,homepage
END:VEVENT
BEGIN:VEVENT
DTSTART;TZID=Europe/London:20231025T103000
DTEND;TZID=Europe/London:20231025T115900
DTSTAMP:20260424T113649
CREATED:20221217T162509Z
LAST-MODIFIED:20221217T162509Z
UID:16560-1698229800-1698235140@berkshirewoodturners.org.uk
SUMMARY:4th Wednesday Coffee Morning on Zoom
DESCRIPTION:Details of the Zoom link will be sent out via email.
URL:https://berkshirewoodturners.org.uk/event/4th-wednesday-coffee-morning-on-zoom-10/
LOCATION:Virtual Online Event
CATEGORIES:Calendar,homepage
END:VEVENT
BEGIN:VEVENT
DTSTART;TZID=Europe/London:20231107T193000
DTEND;TZID=Europe/London:20231107T213000
DTSTAMP:20260424T113649
CREATED:20231012T124401Z
LAST-MODIFIED:20231012T124401Z
UID:16989-1699385400-1699392600@berkshirewoodturners.org.uk
SUMMARY:1st Tuesday Talking Turning on Zoom
DESCRIPTION:Details of the Zoom link will be sent out via email.
URL:https://berkshirewoodturners.org.uk/event/1st-tuesday-talking-turning-on-zoom/
LOCATION:Virtual Online Event
CATEGORIES:Calendar,homepage
END:VEVENT
BEGIN:VEVENT
DTSTART;TZID=Europe/London:20231108T103000
DTEND;TZID=Europe/London:20231108T115900
DTSTAMP:20260424T113649
CREATED:20221217T162509Z
LAST-MODIFIED:20221217T162509Z
UID:16561-1699439400-1699444740@berkshirewoodturners.org.uk
SUMMARY:2nd Wednesday Coffee Morning on Zoom
DESCRIPTION:Details of the Zoom link will be sent out via email.
URL:https://berkshirewoodturners.org.uk/event/2nd-wednesday-coffee-morning-on-zoom-11/
LOCATION:Virtual Online Event
CATEGORIES:Calendar,homepage
END:VEVENT
END:VCALENDAR