BEGIN:VCALENDAR
VERSION:2.0
PRODID:-//Berkshire Woodturners Association - ECPv6.15.20//NONSGML v1.0//EN
CALSCALE:GREGORIAN
METHOD:PUBLISH
X-WR-CALNAME:Berkshire Woodturners Association
X-ORIGINAL-URL:https://berkshirewoodturners.org.uk
X-WR-CALDESC:Events for Berkshire Woodturners Association
REFRESH-INTERVAL;VALUE=DURATION:PT1H
X-Robots-Tag:noindex
X-PUBLISHED-TTL:PT1H
BEGIN:VTIMEZONE
TZID:Europe/London
BEGIN:DAYLIGHT
TZOFFSETFROM:+0000
TZOFFSETTO:+0100
TZNAME:BST
DTSTART:20220327T010000
END:DAYLIGHT
BEGIN:STANDARD
TZOFFSETFROM:+0100
TZOFFSETTO:+0000
TZNAME:GMT
DTSTART:20221030T010000
END:STANDARD
BEGIN:DAYLIGHT
TZOFFSETFROM:+0000
TZOFFSETTO:+0100
TZNAME:BST
DTSTART:20230326T010000
END:DAYLIGHT
BEGIN:STANDARD
TZOFFSETFROM:+0100
TZOFFSETTO:+0000
TZNAME:GMT
DTSTART:20231029T010000
END:STANDARD
BEGIN:DAYLIGHT
TZOFFSETFROM:+0000
TZOFFSETTO:+0100
TZNAME:BST
DTSTART:20240331T010000
END:DAYLIGHT
BEGIN:STANDARD
TZOFFSETFROM:+0100
TZOFFSETTO:+0000
TZNAME:GMT
DTSTART:20241027T010000
END:STANDARD
END:VTIMEZONE
BEGIN:VEVENT
DTSTART;TZID=Europe/London:20230913T103000
DTEND;TZID=Europe/London:20230913T115900
DTSTAMP:20260423T054711
CREATED:20221217T162454Z
LAST-MODIFIED:20221217T162454Z
UID:16557-1694601000-1694606340@berkshirewoodturners.org.uk
SUMMARY:2nd Wednesday Coffee Morning on Zoom
DESCRIPTION:Details of the Zoom link will be sent out via email.
URL:https://berkshirewoodturners.org.uk/event/2nd-wednesday-coffee-morning-on-zoom-9/
LOCATION:Virtual Online Event
CATEGORIES:Calendar,homepage
END:VEVENT
BEGIN:VEVENT
DTSTART;TZID=Europe/London:20230920T190000
DTEND;TZID=Europe/London:20230920T220000
DTSTAMP:20260423T054711
CREATED:20230209T211903Z
LAST-MODIFIED:20230209T211903Z
UID:16681-1695236400-1695247200@berkshirewoodturners.org.uk
SUMMARY:20th September Club Meeting
DESCRIPTION:Demonstrator: Les Thorne \nCombined In Hall and Zoom demo – details of the Zoom link will be sent out via email.
URL:https://berkshirewoodturners.org.uk/event/20th-september-club-meeting/
LOCATION:Priestwood Community Centre\, Priestwood Court Road\, Bracknell\, Berkshire\, RG42 1TU\, United Kingdom
CATEGORIES:Calendar,homepage
END:VEVENT
BEGIN:VEVENT
DTSTART;TZID=Europe/London:20230927T103000
DTEND;TZID=Europe/London:20230927T115900
DTSTAMP:20260423T054711
CREATED:20221217T162509Z
LAST-MODIFIED:20221217T162509Z
UID:16558-1695810600-1695815940@berkshirewoodturners.org.uk
SUMMARY:4th Wednesday Coffee Morning on Zoom
DESCRIPTION:Details of the Zoom link will be sent out via email.
URL:https://berkshirewoodturners.org.uk/event/4th-wednesday-coffee-morning-on-zoom-9/
LOCATION:Virtual Online Event
CATEGORIES:Calendar,homepage
END:VEVENT
END:VCALENDAR