BEGIN:VCALENDAR
VERSION:2.0
PRODID:-//Berkshire Woodturners Association - ECPv6.15.20//NONSGML v1.0//EN
CALSCALE:GREGORIAN
METHOD:PUBLISH
X-ORIGINAL-URL:https://berkshirewoodturners.org.uk
X-WR-CALDESC:Events for Berkshire Woodturners Association
REFRESH-INTERVAL;VALUE=DURATION:PT1H
X-Robots-Tag:noindex
X-PUBLISHED-TTL:PT1H
BEGIN:VTIMEZONE
TZID:Europe/London
BEGIN:DAYLIGHT
TZOFFSETFROM:+0000
TZOFFSETTO:+0100
TZNAME:BST
DTSTART:20210328T010000
END:DAYLIGHT
BEGIN:STANDARD
TZOFFSETFROM:+0100
TZOFFSETTO:+0000
TZNAME:GMT
DTSTART:20211031T010000
END:STANDARD
BEGIN:DAYLIGHT
TZOFFSETFROM:+0000
TZOFFSETTO:+0100
TZNAME:BST
DTSTART:20220327T010000
END:DAYLIGHT
BEGIN:STANDARD
TZOFFSETFROM:+0100
TZOFFSETTO:+0000
TZNAME:GMT
DTSTART:20221030T010000
END:STANDARD
BEGIN:DAYLIGHT
TZOFFSETFROM:+0000
TZOFFSETTO:+0100
TZNAME:BST
DTSTART:20230326T010000
END:DAYLIGHT
BEGIN:STANDARD
TZOFFSETFROM:+0100
TZOFFSETTO:+0000
TZNAME:GMT
DTSTART:20231029T010000
END:STANDARD
END:VTIMEZONE
BEGIN:VEVENT
DTSTART;TZID=Europe/London:20221214T103000
DTEND;TZID=Europe/London:20221214T120000
DTSTAMP:20260423T184726
CREATED:20220419T105815Z
LAST-MODIFIED:20220419T105815Z
UID:16020-1671013800-1671019200@berkshirewoodturners.org.uk
SUMMARY:14th December Coffee Morning on Zoom
DESCRIPTION:Details of the Zoom link will be sent out via email.
URL:https://berkshirewoodturners.org.uk/event/14th-december-coffee-morning-on-zoom/
LOCATION:Virtual Online Event
CATEGORIES:Calendar,homepage
END:VEVENT
BEGIN:VEVENT
DTSTART;TZID=Europe/London:20221221T190000
DTEND;TZID=Europe/London:20221221T220000
DTSTAMP:20260423T184726
CREATED:20220419T101704Z
LAST-MODIFIED:20220419T101704Z
UID:16005-1671649200-1671660000@berkshirewoodturners.org.uk
SUMMARY:21st December Club Christmas Social Event
DESCRIPTION:Combined In Hall and Zoom – details of the Zoom link will be sent out via email. \nFurther details of the event to be confirmed.
URL:https://berkshirewoodturners.org.uk/event/21st-december-club-christmas-social-event/
LOCATION:Priestwood Community Centre\, Priestwood Court Road\, Bracknell\, Berkshire\, RG42 1TU\, United Kingdom
CATEGORIES:Calendar,homepage
END:VEVENT
BEGIN:VEVENT
DTSTART;TZID=Europe/London:20221228T103000
DTEND;TZID=Europe/London:20221228T120000
DTSTAMP:20260423T184726
CREATED:20220419T105900Z
LAST-MODIFIED:20221125T165156Z
UID:16022-1672223400-1672228800@berkshirewoodturners.org.uk
SUMMARY:28th December Coffee Morning on Zoom
DESCRIPTION:Details of the Zoom link will be sent out via email.
URL:https://berkshirewoodturners.org.uk/event/28th-december-coffee-morning-on-zoom/
LOCATION:Virtual Online Event
CATEGORIES:Calendar,homepage
END:VEVENT
END:VCALENDAR