BEGIN:VCALENDAR
VERSION:2.0
PRODID:-//Berkshire Woodturners Association - ECPv6.15.20//NONSGML v1.0//EN
CALSCALE:GREGORIAN
METHOD:PUBLISH
X-WR-CALNAME:Berkshire Woodturners Association
X-ORIGINAL-URL:https://berkshirewoodturners.org.uk
X-WR-CALDESC:Events for Berkshire Woodturners Association
REFRESH-INTERVAL;VALUE=DURATION:PT1H
X-Robots-Tag:noindex
X-PUBLISHED-TTL:PT1H
BEGIN:VTIMEZONE
TZID:Europe/London
BEGIN:DAYLIGHT
TZOFFSETFROM:+0000
TZOFFSETTO:+0100
TZNAME:BST
DTSTART:20210328T010000
END:DAYLIGHT
BEGIN:STANDARD
TZOFFSETFROM:+0100
TZOFFSETTO:+0000
TZNAME:GMT
DTSTART:20211031T010000
END:STANDARD
BEGIN:DAYLIGHT
TZOFFSETFROM:+0000
TZOFFSETTO:+0100
TZNAME:BST
DTSTART:20220327T010000
END:DAYLIGHT
BEGIN:STANDARD
TZOFFSETFROM:+0100
TZOFFSETTO:+0000
TZNAME:GMT
DTSTART:20221030T010000
END:STANDARD
BEGIN:DAYLIGHT
TZOFFSETFROM:+0000
TZOFFSETTO:+0100
TZNAME:BST
DTSTART:20230326T010000
END:DAYLIGHT
BEGIN:STANDARD
TZOFFSETFROM:+0100
TZOFFSETTO:+0000
TZNAME:GMT
DTSTART:20231029T010000
END:STANDARD
END:VTIMEZONE
BEGIN:VEVENT
DTSTART;TZID=Europe/London:20221109T103000
DTEND;TZID=Europe/London:20221109T120000
DTSTAMP:20260423T201924
CREATED:20220419T105653Z
LAST-MODIFIED:20220419T105653Z
UID:16015-1667989800-1667995200@berkshirewoodturners.org.uk
SUMMARY:9th November Coffee Morning on Zoom
DESCRIPTION:Details of the Zoom link will be sent out via email.
URL:https://berkshirewoodturners.org.uk/event/9th-november-coffee-morning-on-zoom/
LOCATION:Virtual Online Event
CATEGORIES:Calendar,homepage
END:VEVENT
BEGIN:VEVENT
DTSTART;TZID=Europe/London:20221116T190000
DTEND;TZID=Europe/London:20221116T220000
DTSTAMP:20260423T201924
CREATED:20220419T101021Z
LAST-MODIFIED:20221005T174923Z
UID:15999-1668625200-1668636000@berkshirewoodturners.org.uk
SUMMARY:16th November Club Meeting
DESCRIPTION:Demonstrator: Darren Breeze demonstrating a “Sunrise Bowl”. \nZoom demo – details of the Zoom link will be sent out via email.
URL:https://berkshirewoodturners.org.uk/event/15999/
LOCATION:Virtual Online Event
CATEGORIES:Calendar,homepage
END:VEVENT
END:VCALENDAR