BEGIN:VCALENDAR
VERSION:2.0
PRODID:-//Berkshire Woodturners Association - ECPv6.15.20//NONSGML v1.0//EN
CALSCALE:GREGORIAN
METHOD:PUBLISH
X-WR-CALNAME:Berkshire Woodturners Association
X-ORIGINAL-URL:https://berkshirewoodturners.org.uk
X-WR-CALDESC:Events for Berkshire Woodturners Association
REFRESH-INTERVAL;VALUE=DURATION:PT1H
X-Robots-Tag:noindex
X-PUBLISHED-TTL:PT1H
BEGIN:VTIMEZONE
TZID:Europe/London
BEGIN:DAYLIGHT
TZOFFSETFROM:+0000
TZOFFSETTO:+0100
TZNAME:BST
DTSTART:20210328T010000
END:DAYLIGHT
BEGIN:STANDARD
TZOFFSETFROM:+0100
TZOFFSETTO:+0000
TZNAME:GMT
DTSTART:20211031T010000
END:STANDARD
BEGIN:DAYLIGHT
TZOFFSETFROM:+0000
TZOFFSETTO:+0100
TZNAME:BST
DTSTART:20220327T010000
END:DAYLIGHT
BEGIN:STANDARD
TZOFFSETFROM:+0100
TZOFFSETTO:+0000
TZNAME:GMT
DTSTART:20221030T010000
END:STANDARD
BEGIN:DAYLIGHT
TZOFFSETFROM:+0000
TZOFFSETTO:+0100
TZNAME:BST
DTSTART:20230326T010000
END:DAYLIGHT
BEGIN:STANDARD
TZOFFSETFROM:+0100
TZOFFSETTO:+0000
TZNAME:GMT
DTSTART:20231029T010000
END:STANDARD
END:VTIMEZONE
BEGIN:VEVENT
DTSTART;TZID=Europe/London:20220702T100000
DTEND;TZID=Europe/London:20220703T170000
DTSTAMP:20260424T023242
CREATED:20220126T210939Z
LAST-MODIFIED:20220126T211314Z
UID:1971-1656756000-1656867600@berkshirewoodturners.org.uk
SUMMARY:2nd July - 3rd July 2022 Bucks Country Show
DESCRIPTION:Bucks Country Show \nPenn Street\nHorse Moor Lane\nBeaconsfield\nAmersham\nHP7 0PS \nFurther details on FaceBook
URL:https://berkshirewoodturners.org.uk/event/2nd-july-3rd-july-bucks-country-show/
CATEGORIES:Calendar
END:VEVENT
BEGIN:VEVENT
DTSTART;TZID=Europe/London:20220713T103000
DTEND;TZID=Europe/London:20220713T120000
DTSTAMP:20260424T023242
CREATED:20220417T200158Z
LAST-MODIFIED:20220417T200158Z
UID:15989-1657708200-1657713600@berkshirewoodturners.org.uk
SUMMARY:13th July Coffee Morning on Zoom
DESCRIPTION:Details of the Zoom link will be sent out via email.
URL:https://berkshirewoodturners.org.uk/event/13th-july-coffee-morning-on-zoom/
CATEGORIES:Calendar,homepage
END:VEVENT
BEGIN:VEVENT
DTSTART;TZID=Europe/London:20220727T103000
DTEND;TZID=Europe/London:20220727T120000
DTSTAMP:20260424T023242
CREATED:20220417T200242Z
LAST-MODIFIED:20220417T200242Z
UID:15991-1658917800-1658923200@berkshirewoodturners.org.uk
SUMMARY:27th July Coffee Morning on Zoom
DESCRIPTION:Details of the Zoom link will be sent out via email.
URL:https://berkshirewoodturners.org.uk/event/27th-july-coffee-morning-on-zoom/
CATEGORIES:Calendar,homepage
END:VEVENT
END:VCALENDAR