BEGIN:VCALENDAR
VERSION:2.0
PRODID:-//Berkshire Woodturners Association - ECPv6.15.20//NONSGML v1.0//EN
CALSCALE:GREGORIAN
METHOD:PUBLISH
X-WR-CALNAME:Berkshire Woodturners Association
X-ORIGINAL-URL:https://berkshirewoodturners.org.uk
X-WR-CALDESC:Events for Berkshire Woodturners Association
REFRESH-INTERVAL;VALUE=DURATION:PT1H
X-Robots-Tag:noindex
X-PUBLISHED-TTL:PT1H
BEGIN:VTIMEZONE
TZID:Europe/London
BEGIN:DAYLIGHT
TZOFFSETFROM:+0000
TZOFFSETTO:+0100
TZNAME:BST
DTSTART:20210328T010000
END:DAYLIGHT
BEGIN:STANDARD
TZOFFSETFROM:+0100
TZOFFSETTO:+0000
TZNAME:GMT
DTSTART:20211031T010000
END:STANDARD
BEGIN:DAYLIGHT
TZOFFSETFROM:+0000
TZOFFSETTO:+0100
TZNAME:BST
DTSTART:20220327T010000
END:DAYLIGHT
BEGIN:STANDARD
TZOFFSETFROM:+0100
TZOFFSETTO:+0000
TZNAME:GMT
DTSTART:20221030T010000
END:STANDARD
BEGIN:DAYLIGHT
TZOFFSETFROM:+0000
TZOFFSETTO:+0100
TZNAME:BST
DTSTART:20230326T010000
END:DAYLIGHT
BEGIN:STANDARD
TZOFFSETFROM:+0100
TZOFFSETTO:+0000
TZNAME:GMT
DTSTART:20231029T010000
END:STANDARD
END:VTIMEZONE
BEGIN:VEVENT
DTSTART;TZID=Europe/London:20220411T193000
DTEND;TZID=Europe/London:20220411T210000
DTSTAMP:20260424T065643
CREATED:20220201T071740Z
LAST-MODIFIED:20220201T071740Z
UID:2008-1649705400-1649710800@berkshirewoodturners.org.uk
SUMMARY:11th April BWA Committee meeting
DESCRIPTION:Reports due Thursday 7th April
URL:https://berkshirewoodturners.org.uk/event/11th-april-bwa-committee-meeting/
LOCATION:Virtual Online Event
CATEGORIES:Calendar
END:VEVENT
BEGIN:VEVENT
DTSTART;TZID=Europe/London:20220420T190000
DTEND;TZID=Europe/London:20220420T220000
DTSTAMP:20260424T065643
CREATED:20220123T165414Z
LAST-MODIFIED:20220411T073751Z
UID:1880-1650481200-1650492000@berkshirewoodturners.org.uk
SUMMARY:20th April Club Meeting
DESCRIPTION:Demonstrator: Malcolm Cleaver \nCombined In Hall and Zoom demo – details of the Zoom link will be sent out via email. Demo will be a textured wall plaque.
URL:https://berkshirewoodturners.org.uk/event/20th-april-club-meeting/
LOCATION:Priestwood Community Centre\, Priestwood Court Road\, Bracknell\, Berkshire\, RG42 1TU\, United Kingdom
CATEGORIES:Calendar,homepage
END:VEVENT
END:VCALENDAR